BEGIN:VCALENDAR
VERSION:2.0
PRODID:-//wp-events-plugin.com//7.2.3.1//EN
TZID:America/Los_Angeles
X-WR-TIMEZONE:America/Los_Angeles
BEGIN:VEVENT
UID:17785@fakce.org
DTSTART;TZID=America/Los_Angeles:20250604T100000
DTEND;TZID=America/Los_Angeles:20250604T120000
DTSTAMP:20250513T205746Z
URL:https://fakce.org/events/in-person-qpi-training-promoting-successful-f
 amily-reunification-2025-06-04/
SUMMARY:In Person | QPI Training: Promoting Successful Family Reunification
DESCRIPTION:\n&nbsp\;\nIn collaboration with Child and Family Well-Being (C
 FWB)\n \nDuring the month of June\, this training will discuss trauma-inf
 ormed visitation\, practical tips to safely support family  relationships
 \, as well as current policies and best practices.  \nDurante el mes de 
 junio\, esta capacitación abordará las visitas con enfoque informado sob
 re el trauma\, consejos prácticos para apoyar de manera segura las relaci
 ones familiares\, así como políticas actuales y mejores prácticas.\n  
                        Social workers &amp\; resource parents 
 will receive two (2) hours of training credit.\n&nbsp\;\nThis support grou
 p will have live translation in Spanish\nIf you need live translation in S
 panish please indicate it in the Special Request section below\; Si necesi
 ta traducción en español favor de indicarlo en la sección de Special R
 equest a continuación.\n***Special Note***\nChildcare will be provided on
 site\, if you are planning on bringing children please list their name(s) 
 and age(s) in the Special Request section below\n***Nota Especial***\nCuid
 ado de niños se proporcionará durante la clase\; si planea traer niños\
 , por favor\, incluye su(s) nombre(s) y edad(es) en la sección de Special
  Request a continuación.
ATTACH;FMTTYPE=image/jpeg:https://fakce.org/wp-content/uploads/2015/04/thR
 8L5DXB82.jpg
CATEGORIES:Classes,Specialty Classes
LOCATION:North Region HHSA - Oceanside (Conference Room A-D)\, 3708 Ocean R
 anch Blvd. #310 \, Oceanside\, Ca/San Diego\, 92056\, North Coast\, United
  States
GEO:33.21143;-117.310732
X-APPLE-STRUCTURED-LOCATION;VALUE=URI;X-ADDRESS=3708 Ocean Ranch Blvd. #310
  \, Oceanside\, Ca/San Diego\, 92056\, North Coast\, United States;X-APPLE
 -RADIUS=100;X-TITLE=North Region HHSA - Oceanside (Conference Room A-D):ge
 o:33.21143,-117.310732
END:VEVENT
BEGIN:VTIMEZONE
TZID:America/Los_Angeles
X-LIC-LOCATION:America/Los_Angeles
BEGIN:DAYLIGHT
DTSTART:20250309T030000
TZOFFSETFROM:-0800
TZOFFSETTO:-0700
TZNAME:PDT
END:DAYLIGHT
END:VTIMEZONE
END:VCALENDAR