BEGIN:VCALENDAR
VERSION:2.0
PRODID:-//wp-events-plugin.com//7.2.3.1//EN
TZID:America/Los_Angeles
X-WR-TIMEZONE:America/Los_Angeles
BEGIN:VEVENT
UID:18673@fakce.org
DTSTART;TZID=America/Los_Angeles:20260317T130000
DTEND;TZID=America/Los_Angeles:20260317T150000
DTSTAMP:20260309T223302Z
URL:https://fakce.org/events/in-person-qpi-the-importance-of-teaming-durin
 g-the-first-30-days-of-placement-2026-03-17/
SUMMARY:In Person | QPI The Importance of Teaming During the First 30 Days 
 Of Placement
DESCRIPTION:Description: QPI San Diego\, Child and Family Well-Being (CFWB)
 \, and the Foster\, Adoptive and Kinship Care Education Program (FAKCE) in
 vite you to join us for a special event focused on strengthening our careg
 iving community.\nThis training focuses on the importance of teamwork duri
 ng the first 30 days of placement. Caregivers will learn key questions to 
 ask placement workers\, how to assess fit\, and how collaboration with par
 tners supports stability and reduces placement disruptions.\n\n&nbsp\;\nCh
 ildcare will be provided for this event.To reserve a spot\, please include
  the name and age of each child in the Special Requests section below when
  completing your registration.\n***Location: 649 W Mission Ave\, Escondido
 \, CA 92025 \n(Conference Rooms A/B)
ATTACH;FMTTYPE=image/jpeg:https://fakce.org/wp-content/uploads/2024/06/tal
 king-adoption-kids-teens-the-talk.jpg
CATEGORIES:Classes,Online Classes,Specialty Classes
LOCATION:HHSA Escondido\, 649 West Mission Avenue\, Escondido\, Ca\, 92025\
 , North County\, United States
GEO:33.1265087;-117.09446209999999
X-APPLE-STRUCTURED-LOCATION;VALUE=URI;X-ADDRESS=649 West Mission Avenue\, E
 scondido\, Ca\, 92025\, North County\, United States;X-APPLE-RADIUS=100;X-
 TITLE=HHSA Escondido:geo:33.1265087,-117.09446209999999
END:VEVENT
BEGIN:VTIMEZONE
TZID:America/Los_Angeles
X-LIC-LOCATION:America/Los_Angeles
BEGIN:DAYLIGHT
DTSTART:20260308T030000
TZOFFSETFROM:-0800
TZOFFSETTO:-0700
TZNAME:PDT
END:DAYLIGHT
END:VTIMEZONE
END:VCALENDAR