BEGIN:VCALENDAR
VERSION:2.0
PRODID:-//wp-events-plugin.com//7.2.3.1//EN
TZID:America/Los_Angeles
X-WR-TIMEZONE:America/Los_Angeles
BEGIN:VEVENT
UID:18274@fakce.org
DTSTART;TZID=America/Los_Angeles:20260325T093000
DTEND;TZID=America/Los_Angeles:20260325T113000
DTSTAMP:20260309T223313Z
URL:https://fakce.org/events/in-person-qpi-partnership-central-office-the-
 importance-of-teaming-during-the-first-30-days-of-placement-2026-03-25/
SUMMARY:In-Person | QPI Partnership- Central office: The Importance of Team
 ing During the First 30 Days of Placement
DESCRIPTION:In collaboration with Child and Family Well-Being (CFWB)\nPleas
 e join us for our 2026 QPI Partnership event for resource parents and soci
 al workers.\nCome and meet our Regional QPI Ambassadors &amp\; Resource Fa
 milies.\nTopic: This training focuses on the importance of teamwork durin
 g the first 30 days of placement. Caregivers will learn key questions to a
 sk placement workers\, how to assess fit\, and how collaboration with part
 ners supports stability and reduces placement disruptions.\nLocation:\nCen
 tral Office\n(Basement Training Room)\n4305 University Ave\nSan Diego\, CA
  92105\n&nbsp\;
ATTACH;FMTTYPE=image/jpeg:https://fakce.org/wp-content/uploads/2017/03/QPI
 _LogoArt_CA202.png
CATEGORIES:Classes,Online Classes,Support Groups,Workshops
LOCATION:Central Region |\, 4305 University Ave\, San Diego\, Ca\, 92105\, 
 United States
GEO:32.74944;-117.101449
X-APPLE-STRUCTURED-LOCATION;VALUE=URI;X-ADDRESS=4305 University Ave\, San D
 iego\, Ca\, 92105\, United States;X-APPLE-RADIUS=100;X-TITLE=Central Regio
 n |:geo:32.74944,-117.101449
END:VEVENT
BEGIN:VTIMEZONE
TZID:America/Los_Angeles
X-LIC-LOCATION:America/Los_Angeles
BEGIN:DAYLIGHT
DTSTART:20260308T030000
TZOFFSETFROM:-0800
TZOFFSETTO:-0700
TZNAME:PDT
END:DAYLIGHT
END:VTIMEZONE
END:VCALENDAR