BEGIN:VCALENDAR
VERSION:2.0
PRODID:-//wp-events-plugin.com//7.2.3.1//EN
TZID:America/Los_Angeles
X-WR-TIMEZONE:America/Los_Angeles
BEGIN:VEVENT
UID:15457@fakce.org
DTSTART;TZID=America/Los_Angeles:20230121T090000
DTEND;TZID=America/Los_Angeles:20230121T153000
DTSTAMP:20230113T211742Z
URL:https://fakce.org/events/in-person-parenting-from-the-inside-out-2023-
 01-21/
SUMMARY:In Person | Parenting From the Inside Out
DESCRIPTION:*In person Class*\n\nOur own childhood experiences shape the wa
 y we parent our children. This workshop will help parents to understand th
 e reason why they act and react the way they do to their children and how 
 they can change that. It also oﬀers an in‐depth look at how the human 
 brain works and how it ties directly to parenting. It helps to explain how
  parents carry emotional baggage and how a child can trigger a response th
 at is more about the baggage than the actual situation itself and how to s
 eparate it from their relationship with their child. We hope you can join 
 us!\nRegistration will close on Friday\, January 20\, 2023\, at 12 pm
ATTACH;FMTTYPE=image/jpeg:https://fakce.org/wp-content/uploads/2016/08/o-C
 LASSROOM-facebook.jpg
CATEGORIES:Classes,Specialty Classes
LOCATION:Metro-Balboa | Hibiscus Room\, 8911 Balboa Ave\, San Diego\, CA\, 
 92123\, United States
GEO:32.820183;-117.136307
X-APPLE-STRUCTURED-LOCATION;VALUE=URI;X-ADDRESS=8911 Balboa Ave\, San Diego
 \, CA\, 92123\, United States;X-APPLE-RADIUS=100;X-TITLE=Metro-Balboa | Hi
 biscus Room:geo:32.820183,-117.136307
END:VEVENT
BEGIN:VTIMEZONE
TZID:America/Los_Angeles
X-LIC-LOCATION:America/Los_Angeles
BEGIN:STANDARD
DTSTART:20221106T010000
TZOFFSETFROM:-0700
TZOFFSETTO:-0800
TZNAME:PST
END:STANDARD
END:VTIMEZONE
END:VCALENDAR