BEGIN:VCALENDAR
VERSION:2.0
PRODID:-//wp-events-plugin.com//7.2.3.1//EN
TZID:America/Los_Angeles
X-WR-TIMEZONE:America/Los_Angeles
BEGIN:VEVENT
UID:17417@fakce.org
DTSTART;TZID=America/Los_Angeles:20240312T100000
DTEND;TZID=America/Los_Angeles:20240312T120000
DTSTAMP:20260122T134024Z
URL:https://fakce.org/events/in-person-north-county-foster-parent-associat
 ion-ncfpa-support-group-qpi-partnership-at-the-balboa-office-2024-03-12/
SUMMARY:In-Person | North County Foster Parent Association (NCFPA) Support 
 Group: QPI Partnership at the Balboa Office
DESCRIPTION:Meets 2nd Tuesday of the month- In-Person\n**No meeting in Augu
 st and December**\nSupport Group Leader: Rhonda Oliver\n\nTopic: QPI even
 t\nComing together in a supportive environment to help one another.\nThis 
 is best done in person.\nLocation:\nNorth Central Office \n(8911 Balboa Av
 e)\n in Magnolia Room
ATTACH;FMTTYPE=image/jpeg:https://fakce.org/wp-content/uploads/2017/03/QPI
 _LogoArt_CA202.png
CATEGORIES:Classes,Online Classes,Support Groups,Workshops
LOCATION:Metro-Balboa\, 8911 Balboa Ave.\, San Diego\, CA\, 92123\, United 
 States
GEO:32.8204791;-117.13626829999998
X-APPLE-STRUCTURED-LOCATION;VALUE=URI;X-ADDRESS=8911 Balboa Ave.\, San Dieg
 o\, CA\, 92123\, United States;X-APPLE-RADIUS=100;X-TITLE=Metro-Balboa:geo
 :32.8204791,-117.13626829999998
END:VEVENT
BEGIN:VTIMEZONE
TZID:America/Los_Angeles
X-LIC-LOCATION:America/Los_Angeles
BEGIN:DAYLIGHT
DTSTART:20240310T030000
TZOFFSETFROM:-0800
TZOFFSETTO:-0700
TZNAME:PDT
END:DAYLIGHT
END:VTIMEZONE
END:VCALENDAR