BEGIN:VCALENDAR
VERSION:2.0
PRODID:-//wp-events-plugin.com//7.2.3.1//EN
TZID:America/Los_Angeles
X-WR-TIMEZONE:America/Los_Angeles
BEGIN:VEVENT
UID:17439@fakce.org
DTSTART;TZID=America/Los_Angeles:20260113T100000
DTEND;TZID=America/Los_Angeles:20260113T120000
DTSTAMP:20260109T203708Z
URL:https://fakce.org/events/in-person-north-county-foster-parent-associat
 ion-ncfpa-support-group-preventing-identifying-treating-substance-use-amon
 g-youth-in-foster-care-2026-01-13/
SUMMARY:In-Person | North County Foster Parent Association (NCFPA) Support 
 Group: Preventing\, Identifying & Treating Substance Use Among Youth in Fo
 ster Care
DESCRIPTION:Meets 2nd Tuesday of the month- In-Person\n**No meeting in Augu
 st and December**\nSupport Group Leader: Rhonda Oliver\n\nTopic: Children
  and youth in foster care often face multiple challenges that put them at 
 a high risk of using substances. Therefore\, it is imperative that those i
 nvolved in child welfare\, including Resource Parents and other profession
 als\, understand how to prevent substance use\, identify possible usage\, 
 and\, if needed\, support youth in their treatment and recovery.\nComing t
 ogether in a supportive environment to help one another.\nThis is best don
 e in person.\nLocation:\nStraight From the Heart\n837 W. San Marcos Blvd.\
 nSan Marcos\, CA 92078
ATTACH;FMTTYPE=image/jpeg:https://fakce.org/wp-content/uploads/2015/03/FTI
 0036E.jpg
CATEGORIES:Classes,Online Classes,Support Groups,Workshops
LOCATION:Straight From The Heart - New\, 837 W. San Marcos Blvd.\, San Marc
 os\, ca\, 92078\, United States
GEO:33.135259;-117.182837
X-APPLE-STRUCTURED-LOCATION;VALUE=URI;X-ADDRESS=837 W. San Marcos Blvd.\, S
 an Marcos\, ca\, 92078\, United States;X-APPLE-RADIUS=100;X-TITLE=Straight
  From The Heart - New:geo:33.135259,-117.182837
END:VEVENT
BEGIN:VTIMEZONE
TZID:America/Los_Angeles
X-LIC-LOCATION:America/Los_Angeles
BEGIN:STANDARD
DTSTART:20251102T010000
TZOFFSETFROM:-0700
TZOFFSETTO:-0800
TZNAME:PST
END:STANDARD
END:VTIMEZONE
END:VCALENDAR