BEGIN:VCALENDAR
VERSION:2.0
PRODID:-//wp-events-plugin.com//7.2.3.1//EN
TZID:America/Los_Angeles
X-WR-TIMEZONE:America/Los_Angeles
BEGIN:VEVENT
UID:17526@fakce.org
DTSTART;TZID=America/Los_Angeles:20250125T090000
DTEND;TZID=America/Los_Angeles:20250125T120000
DTSTAMP:20250124T232046Z
URL:https://fakce.org/events/in-person-kinship-adoption-2025-01-25/
SUMMARY:In Person | Kinship Adoption
DESCRIPTION:This class is for relatives adopting only\nDesigned for those a
 dopting a relative’s child. This class explores life changes\, changing 
 roles\, and relationships with birth parents who are relatives. Resources 
 in the community for kinship caregivers will be examined.\nPlease note\, n
 o childcare is provided or available onsite. Do not bring babies or childr
 en to class. Thank you!
ATTACH;FMTTYPE=image/jpeg:https://fakce.org/wp-content/uploads/2016/08/kid
 s-·-kids-·-kids.jpg
CATEGORIES:Adoption Classes,Classes
LOCATION:Metro-Balboa\, 8911 Balboa Ave.\, San Diego\, CA\, 92123\, United 
 States
GEO:32.8204791;-117.13626829999998
X-APPLE-STRUCTURED-LOCATION;VALUE=URI;X-ADDRESS=8911 Balboa Ave.\, San Dieg
 o\, CA\, 92123\, United States;X-APPLE-RADIUS=100;X-TITLE=Metro-Balboa:geo
 :32.8204791,-117.13626829999998
END:VEVENT
BEGIN:VTIMEZONE
TZID:America/Los_Angeles
X-LIC-LOCATION:America/Los_Angeles
BEGIN:STANDARD
DTSTART:20241103T010000
TZOFFSETFROM:-0700
TZOFFSETTO:-0800
TZNAME:PST
END:STANDARD
END:VTIMEZONE
END:VCALENDAR