BEGIN:VCALENDAR
VERSION:2.0
PRODID:-//wp-events-plugin.com//7.2.3.1//EN
TZID:America/Los_Angeles
X-WR-TIMEZONE:America/Los_Angeles
BEGIN:VEVENT
UID:14246@fakce.org
DTSTART;TZID=America/Los_Angeles:20220614T083000
DTEND;TZID=America/Los_Angeles:20220614T120000
DTSTAMP:20220525T161538Z
URL:https://fakce.org/events/in-person-in-their-shoes-parenting-with-empat
 hy-and-positive-discipline-2022-06-14/
SUMMARY:In Person |  In Their Shoes: Parenting with Empathy and Positive Di
 scipline
DESCRIPTION:This class will take place in an outdoor setting and social dis
 tancing will be followed\nDescription: Using the basic principles of posi
 tive discipline\, this class will explore how children may think\, feel an
 d  act in response to our parenting. Participants will learn positive par
 enting techniques to develop good communication and positive ways to respo
 nd to behavioral challenges.\n\nTraining Hours: 3 hrs credit (training fro
 m 9-12pm)\n\nBreakfast at 8:30am\n\nLunch at 12pm\n***Participants will re
 ceive Breakfast and Lunch***\nLocation:\nThe Patio\, Emjaye Inspired\nOn t
 he campus of Alliant University\, but not a part of the University. (Once 
 on Campus\, there will be signs pointing the way to the venue. There is a 
 large parking lot)\n10455 Pomerado Road\,\nSan Diego\,CA 92131
ATTACH;FMTTYPE=image/jpeg:https://fakce.org/wp-content/uploads/2016/03/boy
 -928655_1280.jpg
CATEGORIES:Classes,Specialty Classes
LOCATION:The Patio\, Emjaye Inspired\, 10455 Pomerado Road\, San Diego\, CA
 \, 92131\, United States
GEO:32.896581;-117.094454
X-APPLE-STRUCTURED-LOCATION;VALUE=URI;X-ADDRESS=10455 Pomerado Road\, San D
 iego\, CA\, 92131\, United States;X-APPLE-RADIUS=100;X-TITLE=The Patio\, E
 mjaye Inspired:geo:32.896581,-117.094454
END:VEVENT
BEGIN:VTIMEZONE
TZID:America/Los_Angeles
X-LIC-LOCATION:America/Los_Angeles
BEGIN:DAYLIGHT
DTSTART:20220313T030000
TZOFFSETFROM:-0800
TZOFFSETTO:-0700
TZNAME:PDT
END:DAYLIGHT
END:VTIMEZONE
END:VCALENDAR