BEGIN:VCALENDAR
VERSION:2.0
PRODID:-//wp-events-plugin.com//7.2.3.1//EN
TZID:America/Los_Angeles
X-WR-TIMEZONE:America/Los_Angeles
BEGIN:VEVENT
UID:15943@fakce.org
DTSTART;TZID=America/Los_Angeles:20231027T123000
DTEND;TZID=America/Los_Angeles:20231027T140000
DTSTAMP:20231027T162524Z
URL:https://fakce.org/events/in-person-fitness-for-fostering-fridays-use-t
 he-force-luke-managing-number-1-first-staying-motivated-to-do-the-job-2023
 -10-27/
SUMMARY:In Person | Fitness for Fostering Fridays: Use the Force\, Luke! Ma
 naging Number 1 First & Staying Motivated to Do the Job
DESCRIPTION:A More Knowledgeable You!\nFitness for Fostering Fridays will b
 e opportunities for Resource Parents to attend workshops mini‐ conferenc
 e style held on Fridays to help enhance their family's fitness and capacit
 y for fostering children from out of home placement. Workshops will be lea
 d by local\, state or national expert guest speakers.\nFitness for Fosteri
 ng Fridays is also an opportunity for Resource Parents to meet with other 
 families\, receive support and make long lasting connections. Resource Par
 ents will have the opportunity to attend workshops either in the morning\,
  afternoon or both if they choose.\n\nSession 2| Use the Force\, Luke! Man
 aging Number 1 First &amp\; Staying Motivated to Do the Job\nThis training
  examines the major triggers and provides strategies for self‐management
  that keep enthusiasm alive. Focal points include: how to respond instead 
 of react when personalizing diﬃcult interactions\, the need to check per
 sonal baggage at the door\, the pivotal role of support and how to “Do y
 our job” when it is lacking\, understanding and mitigating staﬀ “spl
 itting” and staying cohesive\, and a new\, uplifting definition for succ
 ess in working with at‐risk populations.\nTrainer: Charlie Appelstein\, 
 MSW \n\nCharlie Appelstein worked in the field for more than 30 years wit
 h youth in residential treatment. Today he is described as "the best youth
  care trainer in America" and author to critically acclaimed books. He has
  devoted his entire adult career to helping children and youth struggling 
 with emotional and behavioral challenges and those who guide them. An enga
 ging\, informative\, and humorous speaker\, Charlie's strength‐based app
 roach delivers a message of hope and possibility to our most vulnerable yo
 uth and those who shape and influence their lives.\n* Lunch Provided*\nSep
 arate registration is required for each individual workshop. Childcare is 
 not provided on‐site. Translation available upon request.
ATTACH;FMTTYPE=image/jpeg:https://fakce.org/wp-content/uploads/2016/12/pok
 emon-pokemon-go-phone-game-159395.jpeg
CATEGORIES:Classes,Specialty Classes
LOCATION:Handlery Hotel\, 950 Hotel Circle North\, San Diego\, CA\, 92108\,
  United States
GEO:32.7612399;-117.17291210000002
X-APPLE-STRUCTURED-LOCATION;VALUE=URI;X-ADDRESS=950 Hotel Circle North\, Sa
 n Diego\, CA\, 92108\, United States;X-APPLE-RADIUS=100;X-TITLE=Handlery H
 otel:geo:32.7612399,-117.17291210000002
END:VEVENT
BEGIN:VTIMEZONE
TZID:America/Los_Angeles
X-LIC-LOCATION:America/Los_Angeles
BEGIN:DAYLIGHT
DTSTART:20230312T030000
TZOFFSETFROM:-0800
TZOFFSETTO:-0700
TZNAME:PDT
END:DAYLIGHT
END:VTIMEZONE
END:VCALENDAR