BEGIN:VCALENDAR
VERSION:2.0
PRODID:-//wp-events-plugin.com//7.2.3.1//EN
TZID:America/Los_Angeles
X-WR-TIMEZONE:America/Los_Angeles
BEGIN:VEVENT
UID:15492@fakce.org
DTSTART;TZID=America/Los_Angeles:20230228T100000
DTEND;TZID=America/Los_Angeles:20230228T120000
DTSTAMP:20221208T190233Z
URL:https://fakce.org/events/in-person-dr-rienzi-explains-it-all-individua
 lized-education-programs-iep-independent-educational-evaluations-iee-2023-
 02-28/
SUMMARY:In Person | Dr. Rienzi Explains It All: Individualized Education Pr
 ograms (IEP) & Independent Educational Evaluations (IEE)
DESCRIPTION:Guest Speaker: Dr. Rienzi Haytasingh\, Licensed Educational Psy
 chologist \n\n\nFounder of Brain Learning Psychological Corporation\, Dr.
  Rienzi has over 25 years experience in education working with families to
  help their children get the educational services they need to successfull
 y learn because his belief is that every child can learn! He pushes the en
 velope of what is possible for kids with disabilities\, has sat in over 40
 00 IEP meetings and has assessed hundreds of children and adolescents in d
 iﬀerent school districts and states.\nThis workshop will provide caregiv
 ers with special education advocacy so that they can be empowered with wha
 t they need to know and understand about special education and the process
  to confidently advocate for their children’s educational needs and be e
 qual and confident team members at IEP meetings. Dr. Rienzi will share abo
 ut the diﬀerent assessments\, evaluations\, inclusion for student with d
 iﬀerences\, disabilities and much more. Join us for a workshop that all 
 caregivers with school aged children impacted by trauma should want to att
 end.\nPlease note\, childcare is not provided onsite. Please do not bring 
 babies or children to class.
ATTACH;FMTTYPE=image/jpeg:https://fakce.org/wp-content/uploads/2016/08/Fat
 her-reading-to-child.jpg
CATEGORIES:Classes,Specialty Classes
LOCATION:The Hub Community Center - Mission Valley Mall\, 8885 Rio San Dieg
 o Dr # 237\, San Diego\, CA\, 92108\, United States
GEO:32.774754;-117.127473
X-APPLE-STRUCTURED-LOCATION;VALUE=URI;X-ADDRESS=8885 Rio San Diego Dr # 237
 \, San Diego\, CA\, 92108\, United States;X-APPLE-RADIUS=100;X-TITLE=The H
 ub Community Center - Mission Valley Mall:geo:32.774754,-117.127473
END:VEVENT
BEGIN:VTIMEZONE
TZID:America/Los_Angeles
X-LIC-LOCATION:America/Los_Angeles
BEGIN:STANDARD
DTSTART:20221106T010000
TZOFFSETFROM:-0700
TZOFFSETTO:-0800
TZNAME:PST
END:STANDARD
END:VTIMEZONE
END:VCALENDAR