BEGIN:VCALENDAR
VERSION:2.0
PRODID:-//wp-events-plugin.com//7.2.3.1//EN
TZID:America/Los_Angeles
X-WR-TIMEZONE:America/Los_Angeles
BEGIN:VEVENT
UID:15599@fakce.org
DTSTART;TZID=America/Los_Angeles:20230322T093000
DTEND;TZID=America/Los_Angeles:20230322T113000
DTSTAMP:20230213T171911Z
URL:https://fakce.org/events/in-person-building-the-qpi-movement-2023-03-2
 2/
SUMMARY:In Person |  Building the QPI Movement
DESCRIPTION:In collaboration with San Diego County’s Child Welfare Servic
 es\, come hear about the ins and outs of QPI and learn about changes that 
 will affect you!\n\nThe training will cover:\n\n 	State Legislative Change
 s\n 	County Policy Updates and Changes\n 	Transitions\n 	Confidentiality\n
  	Partnership Plan and so much more\n\n&nbsp\;\nRegistration will close on
  Tuesday\, March 21\, 2023\, at 12pm \n
ATTACH;FMTTYPE=image/jpeg:https://fakce.org/wp-content/uploads/2021/05/Gir
 l-With-Spyglass.jpg
CATEGORIES:Classes,Online Classes,Specialty Classes
LOCATION:HHSA Office - Escondido\, 649 West Mission Avenue\, Escondido\, Ca
 \, 92025\, North Inland \, United States
GEO:33.1265088;-117.09446209999999
X-APPLE-STRUCTURED-LOCATION;VALUE=URI;X-ADDRESS=649 West Mission Avenue\, E
 scondido\, Ca\, 92025\, North Inland \, United States;X-APPLE-RADIUS=100;X
 -TITLE=HHSA Office - Escondido:geo:33.1265088,-117.09446209999999
END:VEVENT
BEGIN:VTIMEZONE
TZID:America/Los_Angeles
X-LIC-LOCATION:America/Los_Angeles
BEGIN:DAYLIGHT
DTSTART:20230312T030000
TZOFFSETFROM:-0800
TZOFFSETTO:-0700
TZNAME:PDT
END:DAYLIGHT
END:VTIMEZONE
END:VCALENDAR