BEGIN:VCALENDAR
VERSION:2.0
PRODID:-//wp-events-plugin.com//7.2.3.1//EN
TZID:America/Los_Angeles
X-WR-TIMEZONE:America/Los_Angeles
BEGIN:VEVENT
UID:15578@fakce.org
DTSTART;TZID=America/Los_Angeles:20230309T090000
DTEND;TZID=America/Los_Angeles:20230309T110000
DTSTAMP:20230210T164808Z
URL:https://fakce.org/events/in-person-building-the-qpi-movement-2023-03-0
 9/
SUMMARY:In Person |  Building the QPI Movement
DESCRIPTION:In collaboration with San Diego County’s Child Welfare Servic
 es\, come hear about the ins and outs of QPI and learn about changes that 
 will affect you!\n\nThe training will cover:\n\n 	State Legislative Change
 s\n 	County Policy Updates and Changes\n 	Transitions\n 	Confidentiality\n
  	Partnership Plan and so much more\n\n&nbsp\;\nRegistration will close on
  Wednesday\, March 8\, 2023\, at 12pm \n
ATTACH;FMTTYPE=image/jpeg:https://fakce.org/wp-content/uploads/2021/05/Gir
 l-With-Spyglass.jpg
CATEGORIES:Classes,Online Classes,Specialty Classes
LOCATION:HHSA -East County\, 389 N. Magnolia Avenue\, El Cajon\, Ca\, 92020
 \, United States
GEO:32.7988082;-116.96021869999998
X-APPLE-STRUCTURED-LOCATION;VALUE=URI;X-ADDRESS=389 N. Magnolia Avenue\, El
  Cajon\, Ca\, 92020\, United States;X-APPLE-RADIUS=100;X-TITLE=HHSA -East 
 County:geo:32.7988082,-116.96021869999998
END:VEVENT
BEGIN:VTIMEZONE
TZID:America/Los_Angeles
X-LIC-LOCATION:America/Los_Angeles
BEGIN:STANDARD
DTSTART:20221106T010000
TZOFFSETFROM:-0700
TZOFFSETTO:-0800
TZNAME:PST
END:STANDARD
END:VTIMEZONE
END:VCALENDAR