BEGIN:VCALENDAR
VERSION:2.0
PRODID:-//wp-events-plugin.com//7.2.3.1//EN
TZID:America/Los_Angeles
X-WR-TIMEZONE:America/Los_Angeles
BEGIN:VEVENT
UID:17638@fakce.org
DTSTART;TZID=America/Los_Angeles:20250301T090000
DTEND;TZID=America/Los_Angeles:20250301T120000
DTSTAMP:20250228T224524Z
URL:https://fakce.org/events/in-person-adoption-the-lifelong-process-2025-
 03-01/
SUMMARY:In Person | Adoption the Lifelong Process
DESCRIPTION:This class explores the various issues that adoptive families f
 ace throughout their lifetimes. It covers core issues\, how to talk to chi
 ldren about adoption\, and birth parents at different stages of developmen
 t.  Open adoption issues are explored.\n\n&nbsp\;\nPlease note that no ch
 ildcare is provided or available onsite. Do not bring babies or children t
 o class. Thank you!
ATTACH;FMTTYPE=image/jpeg:https://fakce.org/wp-content/uploads/2021/05/Asi
 an-Family.jpg
CATEGORIES:Adoption Classes,Classes,Online Classes
LOCATION:Balboa Ave | CFT 2\, 1050 Los Vallecitos Boulevard\, San Marcos\, 
 CA\, 92069\, United States
GEO:33.143287;-117.186948
X-APPLE-STRUCTURED-LOCATION;VALUE=URI;X-ADDRESS=1050 Los Vallecitos Bouleva
 rd\, San Marcos\, CA\, 92069\, United States;X-APPLE-RADIUS=100;X-TITLE=Ba
 lboa Ave | CFT 2:geo:33.143287,-117.186948
END:VEVENT
BEGIN:VTIMEZONE
TZID:America/Los_Angeles
X-LIC-LOCATION:America/Los_Angeles
BEGIN:STANDARD
DTSTART:20241103T010000
TZOFFSETFROM:-0700
TZOFFSETTO:-0800
TZNAME:PST
END:STANDARD
END:VTIMEZONE
END:VCALENDAR