BEGIN:VCALENDAR
VERSION:2.0
PRODID:-//wp-events-plugin.com//7.2.3.1//EN
TZID:America/Los_Angeles
X-WR-TIMEZONE:America/Los_Angeles
BEGIN:VEVENT
UID:17532@fakce.org
DTSTART;TZID=America/Los_Angeles:20250201T090000
DTEND;TZID=America/Los_Angeles:20250201T120000
DTSTAMP:20250128T222430Z
URL:https://fakce.org/events/in-person-adoption-in-the-movies-2025-02-01/
SUMMARY:In Person | Adoption in the Movies
DESCRIPTION:Get your family talking about adoption naturally through the ma
 gic of films.  Movies about adoption help all members of the family explo
 re the pain and joys of adoption.  In this class\, we will highlight seve
 ral adoption movies\, and discuss and explore how adoption movies can help
  children feel safe to ask questions and understand their story\, identity
 \, and culture.  You won’t want to miss this fun class!\n\n&nbsp\;\n\n&
 nbsp\;\nPlease note\, NO CHILDCARE will be provided. Please do not bring c
 hildren to class.
ATTACH;FMTTYPE=image/jpeg:https://fakce.org/wp-content/uploads/2016/03/fam
 ily-1003817_1280.jpg
CATEGORIES:Adoption Classes,Classes
LOCATION:Metro-Balboa\, 8911 Balboa Ave.\, San Diego\, CA\, 92123\, United 
 States
GEO:32.8204791;-117.13626829999998
X-APPLE-STRUCTURED-LOCATION;VALUE=URI;X-ADDRESS=8911 Balboa Ave.\, San Dieg
 o\, CA\, 92123\, United States;X-APPLE-RADIUS=100;X-TITLE=Metro-Balboa:geo
 :32.8204791,-117.13626829999998
END:VEVENT
BEGIN:VTIMEZONE
TZID:America/Los_Angeles
X-LIC-LOCATION:America/Los_Angeles
BEGIN:STANDARD
DTSTART:20241103T010000
TZOFFSETFROM:-0700
TZOFFSETTO:-0800
TZNAME:PST
END:STANDARD
END:VTIMEZONE
END:VCALENDAR