BEGIN:VCALENDAR
VERSION:2.0
PRODID:-//wp-events-plugin.com//7.2.3.1//EN
TZID:America/Los_Angeles
X-WR-TIMEZONE:America/Los_Angeles
BEGIN:VEVENT
UID:17835@fakce.org
DTSTART;TZID=America/Los_Angeles:20251004T090000
DTEND;TZID=America/Los_Angeles:20251011T153000
DTSTAMP:20250605T102543Z
URL:https://fakce.org/events/en-persona-tips-clase-881-en-espanol-2025-10-
 04/
SUMMARY:En persona |Tips Clasé 881 (En Español)
DESCRIPTION:Tips es el programa de formación inicial de 12 horas que se re
 quiere antes de ser aprobado como un padre de recurso por el Condado de Sa
 n Diego.  El entrenamiento de TIPS consiste de 4 sesiones de entrenamient
 o de 3 horas cada una.\n\nSe está registrando para Clase 881. Las fechas 
 para cada una de las 4 sesiones son:\n\nSesión # 1| sábado\, octubre 04\
 , 2025- 9am-12pm\nSesión # 2| sábado\, octubre 04\, 2025-12:30pm-3:30pm\
 nSesión # 3| sábado\, octubre 11\, 2025- 9am-12pm\nSesión # 4| sábado\
 , octubre 11\, 2025- 12:30pm-3:30pm\n***Desayuno ligero y almuerzo servido
 ***\n***Si su horario cambia y no puede asistir a la clase\, háganoslo sa
 ber***\nRecibirá una confirmación de su registración por correo electr
 ónico (email).  El email le proporcionará la primera fecha de la clase\
 , así como la hora y el lugar.  Las fechas para las sesiones 2\, 3 y 4\,
  no se proporcionarán.  Favor de tomar nota de las fechas ahora.  En ca
 so de que necesite ver las fechas de las sesiones en el futuro\, se pueden
  encontrar entrando a la página de FAKCE en el internet\, seleccionando y
  bajando a la página de horarios de la clase de TIPS.  Si necesita ayuda
 \, favor de llamar a nuestra oficina de Lunes a Viernes de 8:00 am a 4:30 
 pm @ 1-800-200-1222.
ATTACH;FMTTYPE=image/jpeg:https://fakce.org/wp-content/uploads/2016/08/mul
 tiethnicahousehold.jpg
CATEGORIES:TIPS Classes,TIPS Sessions
LOCATION:Metro-Balboa\, 8911 Balboa Ave.\, San Diego\, CA\, 92123\, United 
 States
GEO:32.8204791;-117.13626829999998
X-APPLE-STRUCTURED-LOCATION;VALUE=URI;X-ADDRESS=8911 Balboa Ave.\, San Dieg
 o\, CA\, 92123\, United States;X-APPLE-RADIUS=100;X-TITLE=Metro-Balboa:geo
 :32.8204791,-117.13626829999998
END:VEVENT
BEGIN:VTIMEZONE
TZID:America/Los_Angeles
X-LIC-LOCATION:America/Los_Angeles
BEGIN:DAYLIGHT
DTSTART:20250309T030000
TZOFFSETFROM:-0800
TZOFFSETTO:-0700
TZNAME:PDT
END:DAYLIGHT
END:VTIMEZONE
END:VCALENDAR