BEGIN:VCALENDAR
VERSION:2.0
PRODID:-//wp-events-plugin.com//7.2.3.1//EN
TZID:America/Los_Angeles
X-WR-TIMEZONE:America/Los_Angeles
BEGIN:VEVENT
UID:13403@fakce.org
DTSTART;TZID=America/Los_Angeles:20220119T180000
DTEND;TZID=America/Los_Angeles:20220119T210000
DTSTAMP:20220102T063610Z
URL:https://fakce.org/events/en-linea-volver-a-criar-al-nino-que-ha-sido-d
 anado-emocionalmente-2022-01-19/
SUMMARY:En Linea| Volver a Criar al Niño que ha Sido Dañado Emocionalment
 e
DESCRIPTION:Basado en el libro con el mismo nombre\, esta capacitación\, 
 Volver a Criar al Niño que ha Sido Dañado Emocionalmente\, proporcionara
  una guía para curar el trauma del desarrollo y los apegos en los niños.
  Los padres obtendrán una comprensión completa de los problemas detrás 
 del comportamiento de los niños y\, como resultado\, se converirán en me
 jores "reguladores" de sus propios entornos ﬁsiológicos y emocionales y
  los de sus hijos. Esta será una capacitación invaluable para cualquier 
 Padre de Recurso.\nRegistro cerrara el Miércoles 19 de Enero 2022 a la
 s 7am\n***Por Favor Tome Nota: Esta clase se facilitará en la plataforma
  en línea llamada Zoom. Se requiere acceso a Internet y acceso a una comp
 utadora / computadora portátil / tableta / teléfono inteligente para asi
 stir.\nEl enlace para assistir a esta clase se proveera despues de que se 
 registre.\nSiga el enlace a continuación para obtener un breve tutorial s
 obre cómo registrarse para obtener una cuenta de\nGuia de Zoom para Usuar
 ios
ATTACH;FMTTYPE=image/jpeg:https://fakce.org/wp-content/uploads/2016/08/Cha
 iKids.jpg
CATEGORIES:Classes,Online Classes,Specialty Classes
LOCATION:Zoom\, 0000 Zoom \, San Diego\, United States
X-APPLE-STRUCTURED-LOCATION;VALUE=URI;X-ADDRESS=0000 Zoom \, San Diego\, Un
 ited States;X-APPLE-RADIUS=100;X-TITLE=Zoom:geo:0,0
END:VEVENT
BEGIN:VTIMEZONE
TZID:America/Los_Angeles
X-LIC-LOCATION:America/Los_Angeles
BEGIN:STANDARD
DTSTART:20211107T010000
TZOFFSETFROM:-0700
TZOFFSETTO:-0800
TZNAME:PST
END:STANDARD
END:VTIMEZONE
END:VCALENDAR