BEGIN:VCALENDAR
VERSION:2.0
PRODID:-//wp-events-plugin.com//7.2.3.1//EN
TZID:America/Los_Angeles
X-WR-TIMEZONE:America/Los_Angeles
BEGIN:VEVENT
UID:14788@fakce.org
DTSTART;TZID=America/Los_Angeles:20221027T180000
DTEND;TZID=America/Los_Angeles:20221027T210000
DTSTAMP:20220824T142207Z
URL:https://fakce.org/events/en-linea-trauma-infantil-los-efectos-de-la-vi
 olencia-domestica-en-el-desarrollo-del-cerebro-2022-10-27/
SUMMARY:En Linea| Trauma Infantil: Los Efectos de la Violencia Domestica en
  el  Desarrollo del Cerebro
DESCRIPTION:En esta clase\, aprenderemos cómo reconocer los efectos de la
  violencia doméstica\, el impacto en el desarrollo del cerebro del niño
  y cómo crear un ambiente "seguro y estable" para su hijo.\nRegistro cer
 rara el Jueves 27 de Octubre 2022 a las 7 am \n***Por Favor Tome Nota: E
 sta clase se facilitará en la plataforma en línea llamada Zoom. Se requi
 ere acceso a Internet y acceso a una computadora / computadora portátil /
  tableta / teléfono inteligente para asistir.\nEl enlace para assistir a 
 esta clase se proveera despues de que se registre.\nSiga el enlace a conti
 nuación para obtener un breve tutorial sobre cómo registrarse para obten
 er una cuenta de\nGuia de Zoom para Usuarios
ATTACH;FMTTYPE=image/jpeg:https://fakce.org/wp-content/uploads/2016/03/leg
 s-407196_1280.jpg
CATEGORIES:Classes,Online Classes,Specialty Classes
LOCATION:Zoom\, 0000 Zoom \, San Diego\, United States
X-APPLE-STRUCTURED-LOCATION;VALUE=URI;X-ADDRESS=0000 Zoom \, San Diego\, Un
 ited States;X-APPLE-RADIUS=100;X-TITLE=Zoom:geo:0,0
END:VEVENT
BEGIN:VTIMEZONE
TZID:America/Los_Angeles
X-LIC-LOCATION:America/Los_Angeles
BEGIN:DAYLIGHT
DTSTART:20220313T030000
TZOFFSETFROM:-0800
TZOFFSETTO:-0700
TZNAME:PDT
END:DAYLIGHT
END:VTIMEZONE
END:VCALENDAR