BEGIN:VCALENDAR
VERSION:2.0
PRODID:-//wp-events-plugin.com//7.2.3.1//EN
TZID:America/Los_Angeles
X-WR-TIMEZONE:America/Los_Angeles
BEGIN:VEVENT
UID:17779@fakce.org
DTSTART;TZID=America/Los_Angeles:20250614T090000
DTEND;TZID=America/Los_Angeles:20250614T120000
DTSTAMP:20250529T171605Z
URL:https://fakce.org/events/en-linea-transiciones-centradas-en-el-nino-20
 25-06-14/
SUMMARY:En Linea | Transiciones Centradas en el Niño
DESCRIPTION:Instructora: Gisella Gomez\, MSW\nDescripción: Mudarse de una 
 casa a otra puede ser difícil y atemorizante para ¡cualquiera! Así que 
 imagine cómo sería para los niños y jóvenes de crianza temporal que lo
 s separan de sus padres y se mudan de su hogar a un lugar desconocido: ¡s
 u lugar! Este taller explorará intervenciones apropiadas y efectivas dura
 nte la transición de bebés\, niños y adolescentes en cuidado de crianza
 . Los participantes en este taller comprenderán el impacto que una mudanz
 a puede tener en un niño\, las estrategias para disminuir el trauma que u
 na mudanza puede crear y\, por último\, reconocerán el impacto de la pé
 rdida que siente la familia de crianza cuando hace la transición de los n
 iños fuera de su hogar.\n***Por Favor Tome Nota: Esta clase se llevará a
  cabo en la plataforma Zoom.\nSe requiere acceso a Internet y a una comput
 adora\, laptop\, tableta o teléfono inteligente para asistir.\nPedimos am
 ablemente que los participantes eviten usar fondos virtuales que distraiga
 n. Para mayor privacidad\, recomendamos usar la función de desenfoque.\nN
 o puede tomar esta clase desde un vehículo.\nEl enlace de Zoom para asist
 ir a esta clase se enviará por correo electrónico.\nSiga el enlace a con
 tinuación para un breve tutorial sobre cómo registrarse para obtener una
  cuenta gratuita de Zoom.\nGuia de Zoom para Usuarios
ATTACH;FMTTYPE=image/jpeg:https://fakce.org/wp-content/uploads/2016/08/mul
 tiethnicahousehold.jpg
CATEGORIES:Classes,Online Classes,Specialty Classes
LOCATION:Zoom\, 0000 Zoom \, San Diego\, United States
X-APPLE-STRUCTURED-LOCATION;VALUE=URI;X-ADDRESS=0000 Zoom \, San Diego\, Un
 ited States;X-APPLE-RADIUS=100;X-TITLE=Zoom:geo:0,0
END:VEVENT
BEGIN:VTIMEZONE
TZID:America/Los_Angeles
X-LIC-LOCATION:America/Los_Angeles
BEGIN:DAYLIGHT
DTSTART:20250309T030000
TZOFFSETFROM:-0800
TZOFFSETTO:-0700
TZNAME:PDT
END:DAYLIGHT
END:VTIMEZONE
END:VCALENDAR