BEGIN:VCALENDAR
VERSION:2.0
PRODID:-//wp-events-plugin.com//7.2.3.1//EN
TZID:America/Los_Angeles
X-WR-TIMEZONE:America/Los_Angeles
BEGIN:VEVENT
UID:14205@fakce.org
DTSTART;TZID=America/Los_Angeles:20220408T180000
DTEND;TZID=America/Los_Angeles:20220408T210000
DTSTAMP:20220210T204920Z
URL:https://fakce.org/events/en-linea-trabajando-en-equipo-con-su-trabajad
 or-social-2022-04-08/
SUMMARY:En Linea |  Trabajando en Equipo con su Trabajador Social
DESCRIPTION:Tener buena relación con las personas es muy importante por m
 uchas razones. Cuando las personas pueden trabajar juntas de manera eﬁca
 z\, se puede lograr mucho. Esto es especialmente cierto para el trabajador
  social de su hijo de crianza. El trabajador social es su enlace para los
  servicios y apoyo para su hijo de crianza. Esta clase le dará ideas sob
 re cómo tener una buena relación laboral con el trabajador de su hijo co
 nociendo las funciones y responsabilidades de los miembros del “equipo
 ” de su hijo de crianza.\nRegistro cerrara el Viernes 8 de Abril a las 7
  am\n***Por Favor Tome Nota: Esta clase se facilitará en la plataforma e
 n línea llamada Zoom. Se requiere acceso a Internet y acceso a una comput
 adora / computadora portátil / tableta / teléfono inteligente para asist
 ir.\nEl enlace para assistir a esta clase se proveera despues de que se re
 gistre.\nSiga el enlace a continuación para obtener un breve tutorial sob
 re cómo registrarse para obtener una cuenta de\nGuia de Zoom para Usuario
 s
ATTACH;FMTTYPE=image/jpeg:https://fakce.org/wp-content/uploads/2016/08/kid
 s-·-kids-·-kids.jpg
CATEGORIES:Classes,Online Classes,Specialty Classes
LOCATION:Zoom\, 0000 Zoom \, San Diego\, United States
X-APPLE-STRUCTURED-LOCATION;VALUE=URI;X-ADDRESS=0000 Zoom \, San Diego\, Un
 ited States;X-APPLE-RADIUS=100;X-TITLE=Zoom:geo:0,0
END:VEVENT
BEGIN:VTIMEZONE
TZID:America/Los_Angeles
X-LIC-LOCATION:America/Los_Angeles
BEGIN:DAYLIGHT
DTSTART:20220313T030000
TZOFFSETFROM:-0800
TZOFFSETTO:-0700
TZNAME:PDT
END:DAYLIGHT
END:VTIMEZONE
END:VCALENDAR