BEGIN:VCALENDAR
VERSION:2.0
PRODID:-//wp-events-plugin.com//7.2.3.1//EN
TZID:America/Los_Angeles
X-WR-TIMEZONE:America/Los_Angeles
BEGIN:VEVENT
UID:18536@fakce.org
DTSTART;TZID=America/Los_Angeles:20260519T180000
DTEND;TZID=America/Los_Angeles:20260528T210000
DTSTAMP:20260101T233124Z
URL:https://fakce.org/events/en-linea-tips-class-923z-en-espanol-2026-05-1
 9/
SUMMARY:En Linea | TIPS: Class 923Z (En Español)
DESCRIPTION:Tips es el programa de formación inicial de 12 horas que se re
 quiere antes de ser aprobado como un padre de recurso por el Condado de Sa
 n Diego. El entrenamiento de TIPS consiste de 4 sesiones de entrenamiento 
 de 3 horas cada una.\n\nSe está registrando para Clase 923z. Las fechas p
 ara cada una de las sesiones son:\n\nSesión #1| martes\, mayo 19\, 2026\n
 Sesión #2| jueves\, mayo 21\, 2026\nSesión #3| martes\, mayo 26\, 2026\n
 Sesión #4| jueves\, mayo 28\, 2026\n\nRecibirá una confirmación de su r
 egistración por correo electrónico (email). El email le proporcionará l
 a primera fecha de la clase\, así como la hora y el lugar. Las fechas par
 a las sesiones 2\, 3 y 4\, no se proporcionarán. Favor de tomar nota de l
 as fechas ahora. En caso de que necesite ver las fechas de las sesiones en
  el futuro\, se pueden encontrar entrando a la página de FAKCE en el inte
 rnet\, seleccionando y bajando a la página de horarios de la clase de TIP
 S. Si necesita ayuda\, favor de llamar a nuestra oficina al 1-800-200-1222
 .\n***Por Favor Tome Nota: Esta clase se facilitará en la plataforma en l
 ínea llamada Zoom. \nSe requiere acceso a Internet y acceso a una computa
 dora / computadora portátil / tableta / teléfono inteligente para asisti
 r.\nNo se puede tomar esta clase en un vehículo.\nEl enlace para assistir
  a esta clase se proveera despues de que se registre.\nSiga el enlace a co
 ntinuación para obtener un breve tutorial sobre cómo registrarse para ob
 tener una cuenta de\nGuia de Zoom para Usuarios\n
ATTACH;FMTTYPE=image/jpeg:https://fakce.org/wp-content/uploads/2015/04/thL
 BAFS5YQ.jpg
CATEGORIES:Online Classes,TIPS Classes,TIPS Sessions
LOCATION:Zoom\, 0000 Zoom \, San Diego\, United States
X-APPLE-STRUCTURED-LOCATION;VALUE=URI;X-ADDRESS=0000 Zoom \, San Diego\, Un
 ited States;X-APPLE-RADIUS=100;X-TITLE=Zoom:geo:0,0
END:VEVENT
BEGIN:VTIMEZONE
TZID:America/Los_Angeles
X-LIC-LOCATION:America/Los_Angeles
BEGIN:DAYLIGHT
DTSTART:20260308T030000
TZOFFSETFROM:-0800
TZOFFSETTO:-0700
TZNAME:PDT
END:DAYLIGHT
END:VTIMEZONE
END:VCALENDAR