BEGIN:VCALENDAR
VERSION:2.0
PRODID:-//wp-events-plugin.com//7.2.3.1//EN
TZID:America/Los_Angeles
X-WR-TIMEZONE:America/Los_Angeles
BEGIN:VEVENT
UID:17728@fakce.org
DTSTART;TZID=America/Los_Angeles:20250609T180000
DTEND;TZID=America/Los_Angeles:20250618T210000
DTSTAMP:20250223T010253Z
URL:https://fakce.org/events/en-linea-tips-class-862z-en-espanol-2025-06-0
 9/
SUMMARY:En Linea | TIPS: Class 862Z (En Español)
DESCRIPTION:Tips es el programa de formación inicial de 12 horas que se re
 quiere antes de ser aprobado como un padre de recurso por el Condado de Sa
 n Diego. El entrenamiento de TIPS consiste de 4 sesiones de entrenamiento 
 de 3 horas cada una.\n\nSe está registrando para Clase 862z. Las fechas p
 ara cada una de las sesiones son:\n\nSesión #1| lunes\, junio 09\, 2025\n
 Sesión #2| miércoles\, junio 11\, 2025\nSesión #3| lunes\, junio 16\, 2
 025\nSesión #4| miércoles\, junio 18\, 2025\n\nRecibirá una confirmaci
 ón de su registración por correo electrónico (email). El email le propo
 rcionará la primera fecha de la clase\, así como la hora y el lugar. Las
  fechas para las sesiones 2\, 3 y 4\, no se proporcionarán. Favor de toma
 r nota de las fechas ahora. En caso de que necesite ver las fechas de las 
 sesiones en el futuro\, se pueden encontrar entrando a la página de FAKCE
  en el internet\, seleccionando y bajando a la página de horarios de la c
 lase de TIPS. Si necesita ayuda\, favor de llamar a nuestra oficina al 1-8
 00-200-1222.\n***Por Favor Tome Nota: Esta clase se facilitará en la plat
 aforma en línea llamada Zoom. \nSe requiere acceso a Internet y acceso a 
 una computadora / computadora portátil / tableta / teléfono inteligente 
 para asistir.\nNo se puede tomar esta clase en un vehículo.\nEl enlace pa
 ra assistir a esta clase se proveera despues de que se registre.\nSiga el 
 enlace a continuación para obtener un breve tutorial sobre cómo registra
 rse para obtener una cuenta de\nGuia de Zoom para Usuarios\n
ATTACH;FMTTYPE=image/jpeg:https://fakce.org/wp-content/uploads/2015/04/thL
 BAFS5YQ.jpg
CATEGORIES:Online Classes,TIPS Classes,TIPS Sessions
LOCATION:Zoom\, 0000 Zoom \, San Diego\, United States
X-APPLE-STRUCTURED-LOCATION;VALUE=URI;X-ADDRESS=0000 Zoom \, San Diego\, Un
 ited States;X-APPLE-RADIUS=100;X-TITLE=Zoom:geo:0,0
END:VEVENT
BEGIN:VTIMEZONE
TZID:America/Los_Angeles
X-LIC-LOCATION:America/Los_Angeles
BEGIN:DAYLIGHT
DTSTART:20250309T030000
TZOFFSETFROM:-0800
TZOFFSETTO:-0700
TZNAME:PDT
END:DAYLIGHT
END:VTIMEZONE
END:VCALENDAR