BEGIN:VCALENDAR
VERSION:2.0
PRODID:-//wp-events-plugin.com//7.2.3.1//EN
TZID:America/Los_Angeles
X-WR-TIMEZONE:America/Los_Angeles
BEGIN:VEVENT
UID:17344@fakce.org
DTSTART;TZID=America/Los_Angeles:20250221T180000
DTEND;TZID=America/Los_Angeles:20250305T210000
DTSTAMP:20250208T123701Z
URL:https://fakce.org/events/en-linea-tips-class-824z-en-espanol-2025-02-2
 1/
SUMMARY:En Linea | TIPS: Class 824Z (En Español)
DESCRIPTION:Tips es el programa de formación inicial de 12 horas que se re
 quiere antes de ser aprobado como un padre de recurso por el Condado de Sa
 n Diego. El entrenamiento de TIPS consiste de 4 sesiones de entrenamiento 
 de 3 horas cada una.\n\nSe está registrando para Clase 824z. Las fechas p
 ara cada una de las sesiones son:\n\nSesión #1| viernes\, febrero 21\, 20
 25\nSesión #2| miércoles\, febrero 26\, 2025\nSesión #3| viernes\, febr
 ero 28 \, 2025\nSesión #4| miércoles\, marzo 5\, 2025\n\nRecibirá una c
 onfirmación de su registración por correo electrónico (email). El email
  le proporcionará la primera fecha de la clase\, así como la hora y el l
 ugar. Las fechas para las sesiones 2\, 3 y 4\, no se proporcionarán. Favo
 r de tomar nota de las fechas ahora. En caso de que necesite ver las fecha
 s de las sesiones en el futuro\, se pueden encontrar entrando a la página
  de FAKCE en el internet\, seleccionando y bajando a la página de horario
 s de la clase de TIPS. Si necesita ayuda\, favor de llamar a nuestra ofici
 na al 1-800-200-1222.\nEl registro de la clase cerrara el viernes\, febrer
 o 21\, 2025 a las 7am\n***Por Favor Tome Nota: Esta clase se facilitará e
 n la plataforma en línea llamada Zoom. \nSe requiere acceso a Internet y 
 acceso a una computadora / computadora portátil / tableta / teléfono int
 eligente para asistir.\nNo se puede tomar esta clase en un vehículo.\nEl 
 enlace para assistir a esta clase se proveera despues de que se registre.\
 nSiga el enlace a continuación para obtener un breve tutorial sobre cómo
  registrarse para obtener una cuenta de\nGuia de Zoom para Usuarios\n
ATTACH;FMTTYPE=image/jpeg:https://fakce.org/wp-content/uploads/2015/04/thL
 BAFS5YQ.jpg
CATEGORIES:Online Classes,TIPS Classes,TIPS Sessions
LOCATION:Zoom\, 0000 Zoom \, San Diego\, United States
X-APPLE-STRUCTURED-LOCATION;VALUE=URI;X-ADDRESS=0000 Zoom \, San Diego\, Un
 ited States;X-APPLE-RADIUS=100;X-TITLE=Zoom:geo:0,0
END:VEVENT
BEGIN:VTIMEZONE
TZID:America/Los_Angeles
X-LIC-LOCATION:America/Los_Angeles
BEGIN:STANDARD
DTSTART:20241103T010000
TZOFFSETFROM:-0700
TZOFFSETTO:-0800
TZNAME:PST
END:STANDARD
END:VTIMEZONE
END:VCALENDAR