BEGIN:VCALENDAR
VERSION:2.0
PRODID:-//wp-events-plugin.com//7.2.3.1//EN
TZID:America/Los_Angeles
X-WR-TIMEZONE:America/Los_Angeles
BEGIN:VEVENT
UID:17341@fakce.org
DTSTART;TZID=America/Los_Angeles:20250210T180000
DTEND;TZID=America/Los_Angeles:20250224T210000
DTSTAMP:20250208T123750Z
URL:https://fakce.org/events/en-linea-tips-class-821z-en-espanol-2025-02-1
 0/
SUMMARY:En Linea | TIPS: Class 821Z (En Español)
DESCRIPTION:Tips es el programa de formación inicial de 12 horas que se re
 quiere antes de ser aprobado como un padre de recurso por el Condado de Sa
 n Diego. El entrenamiento de TIPS consiste de 4 sesiones de entrenamiento 
 de 3 horas cada una.\n\nSe está registrando para Clase 821z. Las fechas p
 ara cada una de las sesiones son:\n\nSesión #1| lunes\, febrero 10\, 2025
 \nSesión #2| miércoles\, febrero 12\, 2025\nSesión #3| miércoles\, feb
 rero 19 \, 2025\nSesión #4| lunes\, febrero 24\, 2025\n\nRecibirá una co
 nfirmación de su registración por correo electrónico (email). El email 
 le proporcionará la primera fecha de la clase\, así como la hora y el lu
 gar. Las fechas para las sesiones 2\, 3 y 4\, no se proporcionarán. Favor
  de tomar nota de las fechas ahora. En caso de que necesite ver las fechas
  de las sesiones en el futuro\, se pueden encontrar entrando a la página 
 de FAKCE en el internet\, seleccionando y bajando a la página de horarios
  de la clase de TIPS. Si necesita ayuda\, favor de llamar a nuestra oficin
 a al 1-800-200-1222.\nEl registro de la clase cerrara el lunes\, febrero 1
 0\, 2025 a las 7am\n***Por Favor Tome Nota: Esta clase se facilitará en l
 a plataforma en línea llamada Zoom. \nSe requiere acceso a Internet y acc
 eso a una computadora / computadora portátil / tableta / teléfono inteli
 gente para asistir.\nNo se puede tomar esta clase en un vehículo.\nEl enl
 ace para assistir a esta clase se proveera despues de que se registre.\nSi
 ga el enlace a continuación para obtener un breve tutorial sobre cómo re
 gistrarse para obtener una cuenta de\nGuia de Zoom para Usuarios\n
ATTACH;FMTTYPE=image/jpeg:https://fakce.org/wp-content/uploads/2015/04/thL
 BAFS5YQ.jpg
CATEGORIES:Online Classes,TIPS Classes,TIPS Sessions
LOCATION:Zoom\, 0000 Zoom \, San Diego\, United States
X-APPLE-STRUCTURED-LOCATION;VALUE=URI;X-ADDRESS=0000 Zoom \, San Diego\, Un
 ited States;X-APPLE-RADIUS=100;X-TITLE=Zoom:geo:0,0
END:VEVENT
BEGIN:VTIMEZONE
TZID:America/Los_Angeles
X-LIC-LOCATION:America/Los_Angeles
BEGIN:STANDARD
DTSTART:20241103T010000
TZOFFSETFROM:-0700
TZOFFSETTO:-0800
TZNAME:PST
END:STANDARD
END:VTIMEZONE
END:VCALENDAR