BEGIN:VCALENDAR
VERSION:2.0
PRODID:-//wp-events-plugin.com//7.2.3.1//EN
TZID:America/Los_Angeles
X-WR-TIMEZONE:America/Los_Angeles
BEGIN:VEVENT
UID:17255@fakce.org
DTSTART;TZID=America/Los_Angeles:20241205T180000
DTEND;TZID=America/Los_Angeles:20241217T210000
DTSTAMP:20241204T223027Z
URL:https://fakce.org/events/en-linea-tips-class-803z-en-espanol-2024-12-0
 5/
SUMMARY:En Linea | TIPS: Class 803Z (En Español)
DESCRIPTION:Tips es el programa de formación inicial de 12 horas que se re
 quiere antes de ser aprobado como un padre de recurso por el Condado de Sa
 n Diego. El entrenamiento de TIPS consiste de 4 sesiones de entrenamiento 
 de 3 horas cada una.\n\nSe está registrando para Clase 803z. Las fechas p
 ara cada una de las sesiones son:\n\nSesión #1| jueves\, diciembre 5\, 20
 24\nSesión #2| martes\, diciembre 10\, 2024\nSesión #3| jueves\, diciemb
 re 12\, 2024\nSesión #4| martes\, diciembre 17\, 2024\n\nRecibirá una co
 nfirmación de su registración por correo electrónico (email). El email 
 le proporcionará la primera fecha de la clase\, así como la hora y el lu
 gar. Las fechas para las sesiones 2\, 3 y 4\, no se proporcionarán. Favor
  de tomar nota de las fechas ahora. En caso de que necesite ver las fechas
  de las sesiones en el futuro\, se pueden encontrar entrando a la página 
 de FAKCE en el internet\, seleccionando y bajando a la página de horarios
  de la clase de TIPS. Si necesita ayuda\, favor de llamar a nuestra oficin
 a al 1-800-200-1222.\nEl registro de la clase cerrara el jueves\, diciembr
 e 5\, 2024 a las 7am\n***Por Favor Tome Nota:Esta clase se facilitará en 
 la plataforma en línea llamada Zoom. Se requiere acceso a Internet y acce
 so a una computadora / computadora portátil / tableta / teléfono intelig
 ente para asistir.\nEl enlace para assistir a esta clase se proveera despu
 es de que se registre.\nSiga el enlace a continuación para obtener un bre
 ve tutorial sobre cómo registrarse para obtener una cuenta de\nGuia de Zo
 om para Usuarios\n
ATTACH;FMTTYPE=image/jpeg:https://fakce.org/wp-content/uploads/2015/04/thL
 BAFS5YQ.jpg
CATEGORIES:Online Classes,TIPS Classes,TIPS Sessions
LOCATION:Zoom\, 0000 Zoom \, San Diego\, United States
X-APPLE-STRUCTURED-LOCATION;VALUE=URI;X-ADDRESS=0000 Zoom \, San Diego\, Un
 ited States;X-APPLE-RADIUS=100;X-TITLE=Zoom:geo:0,0
END:VEVENT
BEGIN:VTIMEZONE
TZID:America/Los_Angeles
X-LIC-LOCATION:America/Los_Angeles
BEGIN:STANDARD
DTSTART:20241103T010000
TZOFFSETFROM:-0700
TZOFFSETTO:-0800
TZNAME:PST
END:STANDARD
END:VTIMEZONE
END:VCALENDAR