BEGIN:VCALENDAR
VERSION:2.0
PRODID:-//wp-events-plugin.com//7.2.3.1//EN
TZID:America/Los_Angeles
X-WR-TIMEZONE:America/Los_Angeles
BEGIN:VEVENT
UID:14795@fakce.org
DTSTART;TZID=America/Los_Angeles:20221109T180000
DTEND;TZID=America/Los_Angeles:20221121T210000
DTSTAMP:20220831T193020Z
URL:https://fakce.org/events/en-linea-tips-class-573z-en-espanol-2022-11-0
 9/
SUMMARY:En Linea | TIPS: Class 573Z (En Español)
DESCRIPTION:Tips es el programa de formación inicial de 12 horas que se re
 quiere antes de ser aprobado como un padre de recurso por el Condado de Sa
 n Diego. El entrenamiento de TIPS consiste de 4 sesiones de entrenamiento 
 de 3 horas cada una.\n\nSe está registrando para Clase 573Z. Las fechas p
 ara cada una de las sesiones son:\n\nSesión #1| miércoles\, noviembre  
  09\, 2022\nSesión #2| lunes\,  noviembre 14\, 2022\nSesión #3| miérc
 oles\, noviembre 16\, 2022\nSesión #4| lunes\, noviembre 21\, 2022\n\nRec
 ibirá una confirmación de su registración por correo electrónico (emai
 l). El email le proporcionará la primera fecha de la clase\, así como la
  hora y el lugar. Las fechas para las sesiones 2\, 3 y 4\, no se proporcio
 narán. Favor de tomar nota de las fechas ahora. En caso de que necesite v
 er las fechas de las sesiones en el futuro\, se pueden encontrar entrando 
 a la página de FAKCE en el internet\, seleccionando y bajando a la págin
 a de horarios de la clase de TIPS. Si necesita ayuda\, favor de llamar a n
 uestra oficina al 1-800-200-1222.\nEl registro de la clase cerrara el mié
 rcoles 09 de noviembre a las 7am \n***Por Favor Tome Nota:Esta clase se f
 acilitará en la plataforma en línea llamada Zoom. Se requiere acceso a I
 nternet y acceso a una computadora / computadora portátil / tableta / tel
 éfono inteligente para asistir.\nEl enlace para assistir a esta clase se 
 proveera despues de que se registre.\nSiga el enlace a continuación para 
 obtener un breve tutorial sobre cómo registrarse para obtener una cuenta 
 de\nGuia de Zoom para Usuarios\n
ATTACH;FMTTYPE=image/jpeg:https://fakce.org/wp-content/uploads/2015/04/thL
 BAFS5YQ.jpg
CATEGORIES:Online Classes,TIPS Classes,TIPS Sessions
LOCATION:Zoom\, 0000 Zoom \, San Diego\, United States
X-APPLE-STRUCTURED-LOCATION;VALUE=URI;X-ADDRESS=0000 Zoom \, San Diego\, Un
 ited States;X-APPLE-RADIUS=100;X-TITLE=Zoom:geo:0,0
END:VEVENT
BEGIN:VTIMEZONE
TZID:America/Los_Angeles
X-LIC-LOCATION:America/Los_Angeles
BEGIN:STANDARD
DTSTART:20221106T010000
TZOFFSETFROM:-0700
TZOFFSETTO:-0800
TZNAME:PST
END:STANDARD
END:VTIMEZONE
END:VCALENDAR