BEGIN:VCALENDAR
VERSION:2.0
PRODID:-//wp-events-plugin.com//7.2.3.1//EN
TZID:America/Los_Angeles
X-WR-TIMEZONE:America/Los_Angeles
BEGIN:VEVENT
UID:14143@fakce.org
DTSTART;TZID=America/Los_Angeles:20220409T090000
DTEND;TZID=America/Los_Angeles:20220416T153000
DTSTAMP:20220121T224334Z
URL:https://fakce.org/events/en-linea-tips-class-507z-en-espanol-2022-04-0
 9/
SUMMARY:En Linea | TIPS: Class 507Z (En Español)
DESCRIPTION:Tips es el programa de formación inicial de 12 horas que se re
 quiere antes de ser aprobado como un padre de recurso por el Condado de Sa
 n Diego. El entrenamiento de TIPS consiste de 2 sesiones de entrenamiento 
 de 6 horas cada una.\n\nSe está registrando para Clase 507Z. Las fechas p
 ara cada una de las sesiones son:\n\nSesión #1 &amp\; 2| Sabado\, Abril 9
 \, 2022\nSesión #3 &amp\; 4| Sabado\, Abril 16\, 2022\n\nRecibirá una co
 nfirmación de su registración por correo electrónico (email). El email 
 le proporcionará la primera fecha de la clase\, así como la hora y el lu
 gar. Las fechas para las sesiones 3 y 4\, no se proporcionarán. Favor de 
 tomar nota de las fechas ahora. En caso de que necesite ver las fechas de 
 las sesiones en el futuro\, se pueden encontrar entrando a la página de F
 AKCE en el internet\, seleccionando y bajando a la página de horarios de 
 la clase de TIPS. Si necesita ayuda\, favor de llamar a nuestra oficina al
  1-800-200-1222.\nEl registro de la clase cerrara el Viernes 8 de Abril a 
 las 12pm\n***Por Favor Tome Nota:Esta clase se facilitará en la plataform
 a en línea llamada Zoom. Se requiere acceso a Internet y acceso a una com
 putadora / computadora portátil / tableta / teléfono inteligente para as
 istir.\nEl enlace para assistir a esta clase se proveera despues de que se
  registre.\nSiga el enlace a continuación para obtener un breve tutorial 
 sobre cómo registrarse para obtener una cuenta de\nGuia de Zoom para Usua
 rios\n
ATTACH;FMTTYPE=image/jpeg:https://fakce.org/wp-content/uploads/2015/04/thL
 BAFS5YQ.jpg
CATEGORIES:Online Classes,TIPS Classes,TIPS Sessions
LOCATION:Zoom\, 0000 Zoom \, San Diego\, United States
X-APPLE-STRUCTURED-LOCATION;VALUE=URI;X-ADDRESS=0000 Zoom \, San Diego\, Un
 ited States;X-APPLE-RADIUS=100;X-TITLE=Zoom:geo:0,0
END:VEVENT
BEGIN:VTIMEZONE
TZID:America/Los_Angeles
X-LIC-LOCATION:America/Los_Angeles
BEGIN:DAYLIGHT
DTSTART:20220313T030000
TZOFFSETFROM:-0800
TZOFFSETTO:-0700
TZNAME:PDT
END:DAYLIGHT
END:VTIMEZONE
END:VCALENDAR