BEGIN:VCALENDAR
VERSION:2.0
PRODID:-//wp-events-plugin.com//7.2.3.1//EN
TZID:America/Los_Angeles
X-WR-TIMEZONE:America/Los_Angeles
BEGIN:VEVENT
UID:14135@fakce.org
DTSTART;TZID=America/Los_Angeles:20220321T180000
DTEND;TZID=America/Los_Angeles:20220330T210000
DTSTAMP:20220217T201730Z
URL:https://fakce.org/events/en-linea-tips-class-501z-en-espanol-2022-03-2
 1/
SUMMARY:En Linea | TIPS: Class 501Z (En Español)
DESCRIPTION:Tips es el programa de formación inicial de 12 horas que se re
 quiere antes de ser aprobado como un padre de recurso por el Condado de Sa
 n Diego. El entrenamiento de TIPS consiste de 4 sesiones de entrenamiento 
 de 3 horas cada una.\n\nSe está registrando para Clase 501Z. Las fechas p
 ara cada una de las sesiones son:\n\nSesión #1| Lunes\, Marzo 21\, 2022\n
 Sesión #2| Miercoles\, Marzo 23\, 2022\nSesión #3| Lunes\, Marzo 28\, 20
 22\nSesión #4| Miercoles\, Marzo 30\, 2022\n\nRecibirá una confirmación
  de su registración por correo electrónico (email). El email le proporci
 onará la primera fecha de la clase\, así como la hora y el lugar. Las fe
 chas para las sesiones 2\, 3 y 4\, no se proporcionarán. Favor de tomar n
 ota de las fechas ahora. En caso de que necesite ver las fechas de las ses
 iones en el futuro\, se pueden encontrar entrando a la página de FAKCE en
  el internet\, seleccionando y bajando a la página de horarios de la clas
 e de TIPS. Si necesita ayuda\, favor de llamar a nuestra oficina al 1-800-
 200-1222.\nEl registro de la clase cerrara el Lunes 21 de Marcha a las 7am
  \n***Por Favor Tome Nota:Esta clase se facilitará en la plataforma en l
 ínea llamada Zoom. Se requiere acceso a Internet y acceso a una computado
 ra / computadora portátil / tableta / teléfono inteligente para asistir.
 \nEl enlace para assistir a esta clase se proveera despues de que se regis
 tre.\nSiga el enlace a continuación para obtener un breve tutorial sobre 
 cómo registrarse para obtener una cuenta de\nGuia de Zoom para Usuarios\n
ATTACH;FMTTYPE=image/jpeg:https://fakce.org/wp-content/uploads/2015/04/thL
 BAFS5YQ.jpg
CATEGORIES:Online Classes,TIPS Classes,TIPS Sessions
LOCATION:Zoom\, 0000 Zoom \, San Diego\, United States
X-APPLE-STRUCTURED-LOCATION;VALUE=URI;X-ADDRESS=0000 Zoom \, San Diego\, Un
 ited States;X-APPLE-RADIUS=100;X-TITLE=Zoom:geo:0,0
END:VEVENT
BEGIN:VTIMEZONE
TZID:America/Los_Angeles
X-LIC-LOCATION:America/Los_Angeles
BEGIN:DAYLIGHT
DTSTART:20220313T030000
TZOFFSETFROM:-0800
TZOFFSETTO:-0700
TZNAME:PDT
END:DAYLIGHT
END:VTIMEZONE
END:VCALENDAR