BEGIN:VCALENDAR
VERSION:2.0
PRODID:-//wp-events-plugin.com//7.2.3.1//EN
TZID:America/Los_Angeles
X-WR-TIMEZONE:America/Los_Angeles
BEGIN:VEVENT
UID:13179@fakce.org
DTSTART;TZID=America/Los_Angeles:20220115T090000
DTEND;TZID=America/Los_Angeles:20220122T153000
DTSTAMP:20211206T214837Z
URL:https://fakce.org/events/en-linea-tips-class-480z-en-espanol-2022-01-1
 5/
SUMMARY:En Linea | TIPS: Class 480Z (En Español)
DESCRIPTION:Tips es el programa de formación inicial de 12 horas que se re
 quiere antes de ser aprobado como un padre de recurso por el Condado de Sa
 n Diego. El entrenamiento de TIPS consiste de 2 sesiones de entrenamiento 
 de 6 horas cada una.\n\nSe está registrando para Clase 480Z. Las fechas p
 ara cada una de las sesiones son:\n\nSesión #1 &amp\; 2| Sabado\, Enero 1
 5\, 2022\nSesión #3 &amp\; 4| Sabado\, Enero 22\, 2022\n\nRecibirá una c
 onfirmación de su registración por correo electrónico (email). El email
  le proporcionará la primera fecha de la clase\, así como la hora y el l
 ugar. Las fechas para las sesiones 3 y 4\, no se proporcionarán. Favor de
  tomar nota de las fechas ahora. En caso de que necesite ver las fechas de
  las sesiones en el futuro\, se pueden encontrar entrando a la página de 
 FAKCE en el internet\, seleccionando y bajando a la página de horarios de
  la clase de TIPS. Si necesita ayuda\, favor de llamar a nuestra oficina a
 l 1-800-200-1222.\nEl registro de la clase cerrara el Viernes 14 de Enero 
 a las 12pm\n***Por Favor Tome Nota:Esta clase se facilitará en la platafo
 rma en línea llamada Zoom. Se requiere acceso a Internet y acceso a una c
 omputadora / computadora portátil / tableta / teléfono inteligente para 
 asistir.\nEl enlace para assistir a esta clase se proveera despues de que 
 se registre.\nSiga el enlace a continuación para obtener un breve tutoria
 l sobre cómo registrarse para obtener una cuenta de\nGuia de Zoom para Us
 uarios\n
ATTACH;FMTTYPE=image/jpeg:https://fakce.org/wp-content/uploads/2015/04/thL
 BAFS5YQ.jpg
CATEGORIES:Online Classes,TIPS Classes,TIPS Sessions
LOCATION:Zoom\, 0000 Zoom \, San Diego\, United States
X-APPLE-STRUCTURED-LOCATION;VALUE=URI;X-ADDRESS=0000 Zoom \, San Diego\, Un
 ited States;X-APPLE-RADIUS=100;X-TITLE=Zoom:geo:0,0
END:VEVENT
BEGIN:VTIMEZONE
TZID:America/Los_Angeles
X-LIC-LOCATION:America/Los_Angeles
BEGIN:STANDARD
DTSTART:20211107T010000
TZOFFSETFROM:-0700
TZOFFSETTO:-0800
TZNAME:PST
END:STANDARD
END:VTIMEZONE
END:VCALENDAR