BEGIN:VCALENDAR
VERSION:2.0
PRODID:-//wp-events-plugin.com//7.2.3.1//EN
TZID:America/Los_Angeles
X-WR-TIMEZONE:America/Los_Angeles
BEGIN:VEVENT
UID:17723@fakce.org
DTSTART;TZID=America/Los_Angeles:20250522T180000
DTEND;TZID=America/Los_Angeles:20250603T210000
DTSTAMP:20250223T000832Z
URL:https://fakce.org/events/en-linea-tips-clase-857z-en-espanol-2025-05-2
 2/
SUMMARY:En Linea | Tips Clasé 857Z (En Español)
DESCRIPTION:Tips es el programa de formación inicial de 12 horas que se re
 quiere antes de ser aprobado como un padre de recurso por el Condado de Sa
 n Diego. El entrenamiento de TIPS consiste de 4 sesiones de entrenamiento 
 de 3 horas cada una.\n\nSe está registrando para Clase 857z. Las fechas p
 ara cada una de las sesiones son:\n\nSesión #1| jueves\, mayo 22\, 2025\n
 Sesión #2| martes\, mayo 27\, 2025\nSesión #3| jueves\, mayo 29\, 2025\n
 Sesión #4| martes\, junio 03\, 2025\n\nRecibirá una confirmación de su 
 registración por correo electrónico (email). El email le proporcionará 
 la primera fecha de la clase\, así como la hora y el lugar. Las fechas pa
 ra las sesiones 2\, 3 y 4\, no se proporcionarán. Favor de tomar nota de 
 las fechas ahora. En caso de que necesite ver las fechas de las sesiones e
 n el futuro\, se pueden encontrar entrando a la página de FAKCE en el int
 ernet\, seleccionando y bajando a la página de horarios de la clase de TI
 PS. Si necesita ayuda\, favor de llamar a nuestra oficina al 1-800-200-122
 2.\n***Por Favor Tome Nota: Esta clase se facilitará en la plataforma en 
 línea llamada Zoom. \nSe requiere acceso a Internet y acceso a una comput
 adora / computadora portátil / tableta / teléfono inteligente para asist
 ir.\nNo se puede tomar esta clase en un vehículo.\nEl enlace para assisti
 r a esta clase se proveera despues de que se registre.\nSiga el enlace a c
 ontinuación para obtener un breve tutorial sobre cómo registrarse para o
 btener una cuenta de\nGuia de Zoom para Usuarios\n
ATTACH;FMTTYPE=image/jpeg:https://fakce.org/wp-content/uploads/2015/04/thL
 BAFS5YQ.jpg
CATEGORIES:Online Classes,TIPS Classes,TIPS Sessions
LOCATION:Zoom\, 0000 Zoom \, San Diego\, United States
X-APPLE-STRUCTURED-LOCATION;VALUE=URI;X-ADDRESS=0000 Zoom \, San Diego\, Un
 ited States;X-APPLE-RADIUS=100;X-TITLE=Zoom:geo:0,0
END:VEVENT
BEGIN:VTIMEZONE
TZID:America/Los_Angeles
X-LIC-LOCATION:America/Los_Angeles
BEGIN:DAYLIGHT
DTSTART:20250309T030000
TZOFFSETFROM:-0800
TZOFFSETTO:-0700
TZNAME:PDT
END:DAYLIGHT
END:VTIMEZONE
END:VCALENDAR