BEGIN:VCALENDAR
VERSION:2.0
PRODID:-//wp-events-plugin.com//7.2.3.1//EN
TZID:America/Los_Angeles
X-WR-TIMEZONE:America/Los_Angeles
BEGIN:VEVENT
UID:17913@fakce.org
DTSTART;TZID=America/Los_Angeles:20250911T180000
DTEND;TZID=America/Los_Angeles:20250911T210000
DTSTAMP:20250818T171024Z
URL:https://fakce.org/events/en-linea-seguridad-en-el-internet-proteger-a-
 los-ninos-en-la-era-digital-2025-09-11/
SUMMARY:En Línea | Seguridad en el Internet: Proteger a Los Niños en la E
 ra Digital
DESCRIPTION:Instructors: Israel Lefebre\,Trabajador de Servicios de Protecc
 ión del CFWB &amp\; Hiliana Mendoza\, Madre de Recursos/Adoptiva\nDescrip
 ción: Este taller equipará a los padres con el conocimiento\, las habili
 dades y los recursos necesarios para crear y mantener un entorno digital s
 eguro para sus hijos.\n&nbsp\;\n***Por Favor Tome Nota: Esta clase se llev
 ará a cabo en la plataforma Zoom. Se requiere acceso a internet y a una c
 omputadora\, laptop\, tableta o teléfono inteligente para participar.\nPe
 dimos amablemente a los participantes que eviten el uso de fondos virtuale
 s que puedan distraer. Para mayor privacidad\, recomendamos utilizar la fu
 nción de desenfoque.\nNo se permite tomar esta clase desde un vehículo.\
 nEl enlace de Zoom para asistir a esta clase será enviado por correo elec
 trónico.\nPor favor\, siga el enlace a continuación para ver un breve tu
 torial sobre cómo registrarse para obtener una cuenta gratuita de Zoom.\n
 Guia de Zoom para Usuarios
ATTACH;FMTTYPE=image/jpeg:https://fakce.org/wp-content/uploads/2016/12/pok
 emon-pokemon-go-phone-game-159395.jpeg
CATEGORIES:Classes,Online Classes,Specialty Classes
LOCATION:Zoom\, 0000 Zoom \, San Diego\, United States
X-APPLE-STRUCTURED-LOCATION;VALUE=URI;X-ADDRESS=0000 Zoom \, San Diego\, Un
 ited States;X-APPLE-RADIUS=100;X-TITLE=Zoom:geo:0,0
END:VEVENT
BEGIN:VTIMEZONE
TZID:America/Los_Angeles
X-LIC-LOCATION:America/Los_Angeles
BEGIN:DAYLIGHT
DTSTART:20250309T030000
TZOFFSETFROM:-0800
TZOFFSETTO:-0700
TZNAME:PDT
END:DAYLIGHT
END:VTIMEZONE
END:VCALENDAR