BEGIN:VCALENDAR
VERSION:2.0
PRODID:-//wp-events-plugin.com//7.2.3.1//EN
TZID:America/Los_Angeles
X-WR-TIMEZONE:America/Los_Angeles
BEGIN:VEVENT
UID:17697@fakce.org
DTSTART;TZID=America/Los_Angeles:20250414T180000
DTEND;TZID=America/Los_Angeles:20250414T210000
DTSTAMP:20250311T160812Z
URL:https://fakce.org/events/en-linea-seguridad-con-el-internet-proteger-a
 -los-ninos-en-la-era-digital-2025-04-14/
SUMMARY:En Línea | Seguridad Con El Internet: Proteger a Los Niños en la 
 Era Digital
DESCRIPTION:Instructores: Israel Lefebre\, CFWB Protective Services Worker 
 &amp\; Hiliana Mendoza\, Madre de Recursos/Adoptiva\nDescripción: Este ta
 ller equipará a los padres con el conocimiento\, las habilidades y los re
 cursos necesarios para crear y mantener un entorno digital seguro para sus
  hijos.\n&nbsp\;\n***Por Favor Tome Nota: Esta clase se llevará a cabo en
  la plataforma Zoom. Se requiere acceso a internet y a una computadora\, l
 aptop\, tableta o teléfono inteligente para participar.\nPedimos amableme
 nte a los participantes que eviten el uso de fondos virtuales que puedan d
 istraer. Para mayor privacidad\, recomendamos utilizar la función de dese
 nfoque.\nNo se permite tomar esta clase desde un vehículo.\nEl enlace de 
 Zoom para asistir a esta clase será enviado por correo electrónico.\nPor
  favor\, siga el enlace a continuación para ver un breve tutorial sobre c
 ómo registrarse para obtener una cuenta gratuita de Zoom.\nGuia de Zoom p
 ara Usuarios
ATTACH;FMTTYPE=image/jpeg:https://fakce.org/wp-content/uploads/2019/01/tee
 n-and-parent.jpg
CATEGORIES:Classes,Online Classes,Specialty Classes
LOCATION:Zoom\, 0000 Zoom \, San Diego\, United States
X-APPLE-STRUCTURED-LOCATION;VALUE=URI;X-ADDRESS=0000 Zoom \, San Diego\, Un
 ited States;X-APPLE-RADIUS=100;X-TITLE=Zoom:geo:0,0
END:VEVENT
BEGIN:VTIMEZONE
TZID:America/Los_Angeles
X-LIC-LOCATION:America/Los_Angeles
BEGIN:DAYLIGHT
DTSTART:20250309T030000
TZOFFSETFROM:-0800
TZOFFSETTO:-0700
TZNAME:PDT
END:DAYLIGHT
END:VTIMEZONE
END:VCALENDAR