BEGIN:VCALENDAR
VERSION:2.0
PRODID:-//wp-events-plugin.com//7.2.3.1//EN
TZID:America/Los_Angeles
X-WR-TIMEZONE:America/Los_Angeles
BEGIN:VEVENT
UID:18500@fakce.org
DTSTART;TZID=America/Los_Angeles:20260130T180000
DTEND;TZID=America/Los_Angeles:20260130T200000
DTSTAMP:20260109T204349Z
URL:https://fakce.org/events/en-linea-san-marcos-grupo-de-apoyo-mi-objetiv
 o-este-ano-es-sobrevivir-2026-01-30/
SUMMARY:En Linea | San Marcos Grupo de Apoyo: Mi objetivo este año es sobr
 evivir
DESCRIPTION:Reunion cada 4to viernes del mes\n**No habra junta noviembre &a
 mp\; diciembre**\nLider de Grupo de Apoyo: Hiliana Mendoza\n\nTema: Como 
 cuidadores\, nos ponemos mucha presión a nosotros mismos\, nos demos cuen
 ta o no. Además\, las presiones de cuidar al hijo de otra persona y traba
 jar dentro de un sistema que puede ser estresante\, incluso algunas de las
  pequeñas imperfecciones durante el día\, se traducen en nuestras propia
 s carencias mentales. Algunos días\, semanas o incluso años no serán r
 écords. Los días\, semanas y años están hechos para ser sobrevividos\,
  apreciados y en el momento. Este taller tratará formas de priorizar lo q
 ue realmente hay que hacer y cómo minimizar las presiones externas.\n***P
 or Favor Tome Nota: Esta clase se llevará a cabo en la plataforma Zoom.\
 nSe requiere acceso a Internet y a una computadora\, laptop\, tableta o te
 léfono inteligente para asistir.\nPara las reuniones de nuestro grupo de 
 apoyo\, todos los participantes deben tener sus cámaras encendidas\, inde
 pendientemente de si están buscando crédito o no. Este requisito está d
 iseñado para fomentar la plena participación y conexión entre los parti
 cipantes\, fomentando una atmósfera de mayor apoyo dentro de nuestra comu
 nidad. Tenga en cuenta que las personas que no puedan participar con sus c
 ámaras encendidas no podrán unirse a las sesiones del grupo de apoyo.\nP
 edimos amablemente que los participantes eviten usar fondos virtuales que 
 distraigan. Para mayor privacidad\, recomendamos usar la función de desen
 foque.\nNo puede tomar esta clase desde un vehículo.\nEl enlace de Zoom p
 ara asistir a esta clase se enviará por correo electrónico.\nSiga el enl
 ace a continuación para un breve tutorial sobre cómo registrarse para ob
 tener una cuenta gratuita de Zoom.\nGuia de Zoom para Usuarios\n&nbsp\;
ATTACH;FMTTYPE=image/jpeg:https://fakce.org/wp-content/uploads/2015/03/SS2
 6036.jpg
CATEGORIES:Classes,Online Classes,Support Groups,Workshops
LOCATION:Zoom\, 0000 Zoom \, San Diego\, United States
X-APPLE-STRUCTURED-LOCATION;VALUE=URI;X-ADDRESS=0000 Zoom \, San Diego\, Un
 ited States;X-APPLE-RADIUS=100;X-TITLE=Zoom:geo:0,0
END:VEVENT
BEGIN:VTIMEZONE
TZID:America/Los_Angeles
X-LIC-LOCATION:America/Los_Angeles
BEGIN:STANDARD
DTSTART:20251102T010000
TZOFFSETFROM:-0700
TZOFFSETTO:-0800
TZNAME:PST
END:STANDARD
END:VTIMEZONE
END:VCALENDAR