BEGIN:VCALENDAR
VERSION:2.0
PRODID:-//wp-events-plugin.com//7.2.3.1//EN
TZID:America/Los_Angeles
X-WR-TIMEZONE:America/Los_Angeles
BEGIN:VEVENT
UID:18501@fakce.org
DTSTART;TZID=America/Los_Angeles:20260227T180000
DTEND;TZID=America/Los_Angeles:20260227T200000
DTSTAMP:20260117T145130Z
URL:https://fakce.org/events/en-linea-san-marcos-grupo-de-apoyo-establecie
 ndo-limites-saludables-con-los-ninos-2026-02-27/
SUMMARY:En Linea | San Marcos Grupo de Apoyo: Estableciendo Limites Saludab
 les con Los Niños
DESCRIPTION:Reunion cada 4to viernes del mes\n**No habra junta noviembre &a
 mp\; diciembre**\nLider de Grupo de Apoyo: Hiliana Mendoza\n\nTema: Los l
 ímites son esenciales en cualquier tipo de relación: entre padres e hijo
 s\, amigos\, empleadores y empleados\, y ciertamente entre familias de cri
 anza y familias biológicas. En pocas palabras\, un límite es todo lo que
  separa dos cosas. Esta clase discutirá la importancia de los límites y 
 cómo usarlos con éxito en su papel de Padre de Recursos.\n***Por Favor T
 ome Nota: Esta clase se llevará a cabo en la plataforma Zoom.\nSe requie
 re acceso a Internet y a una computadora\, laptop\, tableta o teléfono in
 teligente para asistir.\nPara las reuniones de nuestro grupo de apoyo\, to
 dos los participantes deben tener sus cámaras encendidas\, independientem
 ente de si están buscando crédito o no. Este requisito está diseñado p
 ara fomentar la plena participación y conexión entre los participantes\,
  fomentando una atmósfera de mayor apoyo dentro de nuestra comunidad. Ten
 ga en cuenta que las personas que no puedan participar con sus cámaras en
 cendidas no podrán unirse a las sesiones del grupo de apoyo.\nPedimos ama
 blemente que los participantes eviten usar fondos virtuales que distraigan
 . Para mayor privacidad\, recomendamos usar la función de desenfoque.\nNo
  puede tomar esta clase desde un vehículo.\nEl enlace de Zoom para asisti
 r a esta clase se enviará por correo electrónico.\nSiga el enlace a cont
 inuación para un breve tutorial sobre cómo registrarse para obtener una 
 cuenta gratuita de Zoom.\nGuia de Zoom para Usuarios\n&nbsp\;
ATTACH;FMTTYPE=image/jpeg:https://fakce.org/wp-content/uploads/2015/03/KLI
 0003E.jpg
CATEGORIES:Classes,Online Classes,Support Groups,Workshops
LOCATION:Zoom\, 0000 Zoom \, San Diego\, United States
X-APPLE-STRUCTURED-LOCATION;VALUE=URI;X-ADDRESS=0000 Zoom \, San Diego\, Un
 ited States;X-APPLE-RADIUS=100;X-TITLE=Zoom:geo:0,0
END:VEVENT
BEGIN:VTIMEZONE
TZID:America/Los_Angeles
X-LIC-LOCATION:America/Los_Angeles
BEGIN:STANDARD
DTSTART:20251102T010000
TZOFFSETFROM:-0700
TZOFFSETTO:-0800
TZNAME:PST
END:STANDARD
END:VTIMEZONE
END:VCALENDAR