BEGIN:VCALENDAR
VERSION:2.0
PRODID:-//wp-events-plugin.com//7.2.3.1//EN
TZID:America/Los_Angeles
X-WR-TIMEZONE:America/Los_Angeles
BEGIN:VEVENT
UID:18435@fakce.org
DTSTART;TZID=America/Los_Angeles:20260122T093000
DTEND;TZID=America/Los_Angeles:20260122T123000
DTSTAMP:20260115T205710Z
URL:https://fakce.org/events/en-linea-reparacion-de-la-interrupcion-del-ap
 ego-2026-01-22/
SUMMARY:En Línea | Reparación de la Interrupción del Apego
DESCRIPTION:Instructoras: Heidi Blue MSW &amp\; Hiliana Mendoza\, Madre de 
 Recursos/Adoptiva\nDescripción: Esta clase analizará el desarrollo norma
 l del apego en los niño y lo que sucede cuando se interrumpe el apego. Lo
 s participantes buscarán estrategias efectivas para ayudar a los niños a
  reconstruir la confianza y la capacidad de establecer vínculos saludab
 les con los demás.\n***Por Favor Tome Nota: Esta clase se facilitará en 
 la plataforma en línea llamada Zoom. \nSe requiere acceso a Internet y ac
 ceso a una computadora / computadora portátil / tableta / teléfono intel
 igente para asistir.\nEl enlace para asistir a esta clase se proveerá des
 pués de que se registre.\nSiga el enlace a continuación para obtener un
  breve tutorial sobre cómo registrarse para obtener una cuenta de\nGuia d
 e Zoom para Usuarios
ATTACH;FMTTYPE=image/jpeg:https://fakce.org/wp-content/uploads/2023/04/ist
 ockphoto-920732910-612x612-1.jpg
CATEGORIES:Classes,Online Classes,Specialty Classes
LOCATION:Zoom\, 0000 Zoom \, San Diego\, United States
X-APPLE-STRUCTURED-LOCATION;VALUE=URI;X-ADDRESS=0000 Zoom \, San Diego\, Un
 ited States;X-APPLE-RADIUS=100;X-TITLE=Zoom:geo:0,0
END:VEVENT
BEGIN:VTIMEZONE
TZID:America/Los_Angeles
X-LIC-LOCATION:America/Los_Angeles
BEGIN:STANDARD
DTSTART:20251102T010000
TZOFFSETFROM:-0700
TZOFFSETTO:-0800
TZNAME:PST
END:STANDARD
END:VTIMEZONE
END:VCALENDAR