BEGIN:VCALENDAR
VERSION:2.0
PRODID:-//wp-events-plugin.com//7.2.3.1//EN
TZID:America/Los_Angeles
X-WR-TIMEZONE:America/Los_Angeles
BEGIN:VEVENT
UID:15459@fakce.org
DTSTART;TZID=America/Los_Angeles:20230120T180000
DTEND;TZID=America/Los_Angeles:20230120T210000
DTSTAMP:20221207T224917Z
URL:https://fakce.org/events/en-linea-reparacion-de-la-interrupcion-del-ap
 ego-2023-01-20/
SUMMARY:En Linea | Reparación de la Interrupción del Apego
DESCRIPTION:Descripción: Esta clase analizará el desarrollo normal del ap
 ego en los niños y lo que sucede cuando se interrumpe el apego. Los parti
 cipantes buscarán estrategias efectivas para ayudar a los niños a recons
 truir la confianza y la capacidad de establecer vínculos saludables con l
 os demás.\nRegistro cerrara el Viernes 20 de Enero 2023 a las 7 am \n&nb
 sp\;\n***Por Favor Tome Nota: Esta clase se facilitará en la plataforma e
 n línea llamada Zoom. Se requiere acceso a Internet y acceso a una comput
 adora / computadora portátil / tableta / teléfono inteligente para asist
 ir.\nEl enlace para assistir a esta clase se proveera despues de que se re
 gistre.\nSiga el enlace a continuación para obtener un breve tutorial sob
 re cómo registrarse para obtener una cuenta de\nGuia de Zoom para Usuario
 s
ATTACH;FMTTYPE=image/jpeg:https://fakce.org/wp-content/uploads/2016/03/gir
 l-person-human-female.jpg
CATEGORIES:Classes,Specialty Classes
LOCATION:Zoom\, 0000 Zoom \, San Diego\, United States
X-APPLE-STRUCTURED-LOCATION;VALUE=URI;X-ADDRESS=0000 Zoom \, San Diego\, Un
 ited States;X-APPLE-RADIUS=100;X-TITLE=Zoom:geo:0,0
END:VEVENT
BEGIN:VTIMEZONE
TZID:America/Los_Angeles
X-LIC-LOCATION:America/Los_Angeles
BEGIN:STANDARD
DTSTART:20221106T010000
TZOFFSETFROM:-0700
TZOFFSETTO:-0800
TZNAME:PST
END:STANDARD
END:VTIMEZONE
END:VCALENDAR