BEGIN:VCALENDAR
VERSION:2.0
PRODID:-//wp-events-plugin.com//7.2.3.1//EN
TZID:America/Los_Angeles
X-WR-TIMEZONE:America/Los_Angeles
BEGIN:VEVENT
UID:17317@fakce.org
DTSTART;TZID=America/Los_Angeles:20241211T180000
DTEND;TZID=America/Los_Angeles:20241211T200000
DTSTAMP:20241211T221436Z
URL:https://fakce.org/events/en-linea-redes-sociales-consejos-para-padres-
 de-crianza-y-proveedores-de-cuidado-2024-12-11/
SUMMARY:En Línea | Redes Sociales: Consejos para Padres de Crianza y Prove
 edores de Cuidado
DESCRIPTION:Instructora: Gisella Gomez\, MSW\nMientras estamos conectados\,
  los jóvenes y los adultos estamos expuestos a una gran probabilidad que 
 nos acosen en el internet. Requiere mucha supervisión\, tenemos que estar
  alertas de los sitios que visitan nuestros hijo/as\, puede haber interacc
 iones negativas como\, proposiciones sexuales\, extorsiones\, acoso\, y so
 licitación de información personal. Hay que educar a nuestros hijo/as de
  los peligros y cómo usar el internet con cautela.\n&nbsp\;\nRegistració
 n cerrará el Miércoles 11 de Diciembre a las 7am \n***Por Favor Tome No
 ta: Esta clase se facilitará en la plataforma en línea llamada Zoom. Se
  requiere acceso a Internet y acceso a una computadora / computadora port
 átil / tableta / teléfono inteligente para asistir.\nEl enlace para asis
 tir a esta clase se proveerá despues de que se registre.\nSiga el enlace 
 a continuación para obtener un breve tutorial sobre cómo registrarse par
 a obtener una cuenta de\nGuia de Zoom para Usuarios
ATTACH;FMTTYPE=image/jpeg:https://fakce.org/wp-content/uploads/2016/08/Cha
 iKids.jpg
CATEGORIES:Classes,Online Classes,Specialty Classes
LOCATION:Zoom\, 0000 Zoom \, San Diego\, United States
X-APPLE-STRUCTURED-LOCATION;VALUE=URI;X-ADDRESS=0000 Zoom \, San Diego\, Un
 ited States;X-APPLE-RADIUS=100;X-TITLE=Zoom:geo:0,0
END:VEVENT
BEGIN:VTIMEZONE
TZID:America/Los_Angeles
X-LIC-LOCATION:America/Los_Angeles
BEGIN:STANDARD
DTSTART:20241103T010000
TZOFFSETFROM:-0700
TZOFFSETTO:-0800
TZNAME:PST
END:STANDARD
END:VTIMEZONE
END:VCALENDAR