BEGIN:VCALENDAR
VERSION:2.0
PRODID:-//wp-events-plugin.com//7.2.3.1//EN
TZID:America/Los_Angeles
X-WR-TIMEZONE:America/Los_Angeles
BEGIN:VEVENT
UID:14160@fakce.org
DTSTART;TZID=America/Los_Angeles:20220311T180000
DTEND;TZID=America/Los_Angeles:20220311T210000
DTSTAMP:20220207T200245Z
URL:https://fakce.org/events/en-linea-redes-sociales-conejos-para-padres-d
 e-recursos-y-proveedores-2022-03-11/
SUMMARY:En Linea| Redes Sociales: Conejos para Padres de Recursos y Proveed
 ores
DESCRIPTION:Mientras estamos conectados\, los jóvenes y los adultos estamo
 s expuestos a una gran probabilidad: Que nos acosen en el internet. En tie
 mpos de Covid\, con la escuela en‐línea se requiere mucha supervisión\
 , tenemos que estar alertas de los sitios que visitan nuestros hijo/as\, p
 uede haber atracciones negativas como\, proposiciones sexuales\, extorsion
 es\, bullying\, solicitación de información personal. Hay que educar a n
 uestros hijo/as de los peligros y como usar el internet con cautela.\nRegi
 stro cerrara el Viernes 11 de Marzo a las 7am\n***Por Favor Tome Nota: Es
 ta clase se facilitará en la plataforma en línea llamada Zoom. Se requie
 re acceso a Internet y acceso a una computadora / computadora portátil / 
 tableta / teléfono inteligente para asistir.\nEl enlace para assistir a e
 sta clase se proveera despues de que se registre.\nSiga el enlace a contin
 uación para obtener un breve tutorial sobre cómo registrarse para obtene
 r una cuenta de\nGuia de Zoom para Usuarios
ATTACH;FMTTYPE=image/jpeg:https://fakce.org/wp-content/uploads/2016/08/kid
 s-·-kids-·-kids.jpg
CATEGORIES:Classes,Online Classes,Specialty Classes
LOCATION:Zoom\, 0000 Zoom \, San Diego\, United States
X-APPLE-STRUCTURED-LOCATION;VALUE=URI;X-ADDRESS=0000 Zoom \, San Diego\, Un
 ited States;X-APPLE-RADIUS=100;X-TITLE=Zoom:geo:0,0
END:VEVENT
BEGIN:VTIMEZONE
TZID:America/Los_Angeles
X-LIC-LOCATION:America/Los_Angeles
BEGIN:STANDARD
DTSTART:20211107T010000
TZOFFSETFROM:-0700
TZOFFSETTO:-0800
TZNAME:PST
END:STANDARD
END:VTIMEZONE
END:VCALENDAR