BEGIN:VCALENDAR
VERSION:2.0
PRODID:-//wp-events-plugin.com//7.2.3.1//EN
TZID:America/Los_Angeles
X-WR-TIMEZONE:America/Los_Angeles
BEGIN:VEVENT
UID:13404@fakce.org
DTSTART;TZID=America/Los_Angeles:20220119T180000
DTEND;TZID=America/Los_Angeles:20220119T210000
DTSTAMP:20211207T160659Z
URL:https://fakce.org/events/en-linea-primeros-auxilios-y-cpr-2022-01-19/
SUMMARY:En Linea | Primeros Auxilios y CPR
DESCRIPTION:Todas las Clases Son Gratis. La Membresia y las Tarjetas de CPR
  Ya No Se Cobran.\nEstas clases proveen información sobre primeros auxili
 os y CPR para infantes\, menores y adultos. Son patrocinadas por el Progra
 ma de Educación de Padres de Crianza y la Asociación local de Padres de 
 Crianza. Pueden ser utilizadas para los requisitos de licencias pero no pa
 ra los requisitos del condado o del estado referente a las ocho horas de e
 ntrenamiento mandatorio.\n\nLas clases de primeros auxilios y CPR son solo
  para los solicitantes para ser Padres de Recursos\, Familias de Recursos
  Aprobadas\, Padres de Crianza Temporal/Adoptivos con Licencia del Condado
 \, y Cuidadores de Relevo que prestaran sus servicios a los padres de recu
 rsos directamente a traves de la agencia de Bienestar Infantil del condad
 o\, los servicios de familias d crianza y de recursos adoptivos del condad
 o. \nRegistro cerrara el Miércoles 19 de Enero 2022 a las 7am \n***Por
  Favor Tome Nota:Esta clase se facilitará en la plataforma en línea llam
 ada Zoom. Se requiere acceso a Internet y acceso a una computadora / compu
 tadora portátil / tableta / teléfono inteligente para asistir.\nEl enlac
 e para assistir a esta clase se proveera despues de que se registre.\nSiga
  el enlace a continuación para obtener un breve tutorial sobre cómo regi
 strarse para obtener una cuenta de\nGuia de Zoom para Usuarios\n
ATTACH;FMTTYPE=image/jpeg:https://fakce.org/wp-content/uploads/2015/03/cpr
 .jpg
CATEGORIES:First Aid / CPR,Online Classes
LOCATION:Zoom\, 0000 Zoom \, San Diego\, United States
X-APPLE-STRUCTURED-LOCATION;VALUE=URI;X-ADDRESS=0000 Zoom \, San Diego\, Un
 ited States;X-APPLE-RADIUS=100;X-TITLE=Zoom:geo:0,0
END:VEVENT
BEGIN:VTIMEZONE
TZID:America/Los_Angeles
X-LIC-LOCATION:America/Los_Angeles
BEGIN:STANDARD
DTSTART:20211107T010000
TZOFFSETFROM:-0700
TZOFFSETTO:-0800
TZNAME:PST
END:STANDARD
END:VTIMEZONE
END:VCALENDAR