BEGIN:VCALENDAR
VERSION:2.0
PRODID:-//wp-events-plugin.com//7.2.3.1//EN
TZID:America/Los_Angeles
X-WR-TIMEZONE:America/Los_Angeles
BEGIN:VEVENT
UID:18069@fakce.org
DTSTART;TZID=America/Los_Angeles:20251118T180000
DTEND;TZID=America/Los_Angeles:20251118T200000
DTSTAMP:20251017T222800Z
URL:https://fakce.org/events/en-linea-prevencion-de-la-obesidad-infantil-2
 025-11-18/
SUMMARY:En Línea | Prevención de la Obesidad Infantil
DESCRIPTION:Instructores: Representantes del Centro de Bienestar del Hospit
 al Scripps Mercy\n\nDescripción: Aprenda cómo las familias de crianza pu
 eden apoyar una alimentación saludable\, la actividad física y la confia
 nza corporal. Esta clase aborda las causas fundamentales de la obesidad in
 fantil y ofrece consejos para crear un entorno familiar equilibrado y cons
 ciente de la salud\, sin estigmas.\n***Nota importante: Esta clase se llev
 ará a cabo a través de la plataforma Zoom.***\nSe requiere acceso a inte
 rnet y a una computadora\, laptop\, tableta o teléfono inteligente para a
 sistir.\nLe pedimos amablemente a los participantes que eviten el uso de f
 ondos virtuales que distraigan. Por privacidad\, recomendamos usar la func
 ión de desenfoque.\nNo se permite tomar esta clase desde un vehículo.\nE
 l enlace de Zoom para asistir a esta clase se enviará por correo electró
 nico.\nPor favor\, siga el siguiente enlace para ver un breve tutorial sob
 re cómo crear una cuenta gratuita en Zoom.\nGuía del Usuario de Zoom\n&n
 bsp\;
ATTACH;FMTTYPE=image/jpeg:https://fakce.org/wp-content/uploads/2015/04/pic
 27.jpg
CATEGORIES:Classes,Online Classes,Specialty Classes
LOCATION:Zoom\, 0000 Zoom \, San Diego\, United States
X-APPLE-STRUCTURED-LOCATION;VALUE=URI;X-ADDRESS=0000 Zoom \, San Diego\, Un
 ited States;X-APPLE-RADIUS=100;X-TITLE=Zoom:geo:0,0
END:VEVENT
BEGIN:VTIMEZONE
TZID:America/Los_Angeles
X-LIC-LOCATION:America/Los_Angeles
BEGIN:STANDARD
DTSTART:20251102T010000
TZOFFSETFROM:-0700
TZOFFSETTO:-0800
TZNAME:PST
END:STANDARD
END:VTIMEZONE
END:VCALENDAR