BEGIN:VCALENDAR
VERSION:2.0
PRODID:-//wp-events-plugin.com//7.2.3.1//EN
TZID:America/Los_Angeles
X-WR-TIMEZONE:America/Los_Angeles
BEGIN:VEVENT
UID:15693@fakce.org
DTSTART;TZID=America/Los_Angeles:20230512T180000
DTEND;TZID=America/Los_Angeles:20230512T210000
DTSTAMP:20230412T190623Z
URL:https://fakce.org/events/en-linea-paternidad-activa-los-primeros-5-ano
 s-2023-05-12/
SUMMARY:En Linea | Paternidad Activa - Los Primeros 5 Años
DESCRIPTION:Ser un “padre exitoso” significa más que proporcionar comi
 da\, ropa y vivienda. Requiere asumir un papel acƟvo en el crecimiento y 
 desarrollo del niño\, y un enfoque activo de la crianza. Este taller abor
 dará las habilidades básicas para los nuevos padres y cuidadores.\n\n&nb
 sp\;\nRegistro cerrara el Viernes 12 de Mayo\, 2023  a las 7 pm\n***Por F
 avor Tome Nota: Esta clase se facilitará en la plataforma en línea llam
 ada Zoom. Se requiere acceso a Internet y acceso a una computadora / compu
 tadora portátil / tableta / teléfono inteligente para asistir.\nEl enlac
 e para assistir a esta clase se proveera despues de que se registre.\nSiga
  el enlace a continuación para obtener un breve tutorial sobre cómo regi
 strarse para obtener una cuenta de\nGuia de Zoom para Usuarios
ATTACH;FMTTYPE=image/jpeg:https://fakce.org/wp-content/uploads/2015/12/gir
 l-676185_1280.jpg
CATEGORIES:Classes,Online Classes,Specialty Classes
LOCATION:Zoom\, 0000 Zoom \, San Diego\, United States
X-APPLE-STRUCTURED-LOCATION;VALUE=URI;X-ADDRESS=0000 Zoom \, San Diego\, Un
 ited States;X-APPLE-RADIUS=100;X-TITLE=Zoom:geo:0,0
END:VEVENT
BEGIN:VTIMEZONE
TZID:America/Los_Angeles
X-LIC-LOCATION:America/Los_Angeles
BEGIN:DAYLIGHT
DTSTART:20230312T030000
TZOFFSETFROM:-0800
TZOFFSETTO:-0700
TZNAME:PDT
END:DAYLIGHT
END:VTIMEZONE
END:VCALENDAR