BEGIN:VCALENDAR
VERSION:2.0
PRODID:-//wp-events-plugin.com//7.2.3.1//EN
TZID:America/Los_Angeles
X-WR-TIMEZONE:America/Los_Angeles
BEGIN:VEVENT
UID:14772@fakce.org
DTSTART;TZID=America/Los_Angeles:20221011T180000
DTEND;TZID=America/Los_Angeles:20221020T210000
DTSTAMP:20220818T175000Z
URL:https://fakce.org/events/en-linea-paternidad-activa-%e2%80%90-para-ado
 lescentes-anos-13%e2%80%9019-2022-10-11/
SUMMARY:En Linea | Paternidad Activa ‐ Para Adolescentes Años  13‐19
DESCRIPTION:***Entrenamiento de 2 sesiones***\nSer un “padre exitoso” s
 igniﬁca más que proporcionar comida\, ropa y vivienda. Requiere asumir
  un papel activo en el crecimiento y desarrollo del niño\, y un enfoque a
 ctivo de la crianza. El taller de Paternidad Activa de Adolescentes es par
 a padres de preadolescentes y adolescentes y tiene como objetivo proporcio
 nar a los padres las habilidades necesarias para usar disciplina efectiva\
 , enseñar responsabilidad y comunicarse con sus hijos. Los padres tambié
 n aprenderán cómo manejar temas delicados como las drogas\, la sexualida
 d y la violencia\, y mucho más.\n\nFechas:\n\n 	Martes\, Octubre 11\, 202
 2\n 	Jueves\, Octubre 20\, 2022\n\nRegistro cerrara el Martes 11 de Octubr
 e 2022 a las 7 am \n***Por Favor Tome Nota: Esta clase se facilitará en
  la plataforma en línea llamada Zoom. Se requiere acceso a Internet y acc
 eso a una computadora / computadora portátil / tableta / teléfono inteli
 gente para asistir.\nEl enlace para assistir a esta clase se proveera desp
 ues de que se registre.\nSiga el enlace a continuación para obtener un br
 eve tutorial sobre cómo registrarse para obtener una cuenta de\nGuia de Z
 oom para Usuarios
ATTACH;FMTTYPE=image/jpeg:https://fakce.org/wp-content/uploads/2021/05/Fly
 ing-Boy.jpg
CATEGORIES:Classes,Online Classes,Specialty Classes
LOCATION:Zoom\, 0000 Zoom \, San Diego\, United States
X-APPLE-STRUCTURED-LOCATION;VALUE=URI;X-ADDRESS=0000 Zoom \, San Diego\, Un
 ited States;X-APPLE-RADIUS=100;X-TITLE=Zoom:geo:0,0
END:VEVENT
BEGIN:VTIMEZONE
TZID:America/Los_Angeles
X-LIC-LOCATION:America/Los_Angeles
BEGIN:DAYLIGHT
DTSTART:20220313T030000
TZOFFSETFROM:-0800
TZOFFSETTO:-0700
TZNAME:PDT
END:DAYLIGHT
END:VTIMEZONE
END:VCALENDAR