BEGIN:VCALENDAR
VERSION:2.0
PRODID:-//wp-events-plugin.com//7.2.3.1//EN
TZID:America/Los_Angeles
X-WR-TIMEZONE:America/Los_Angeles
BEGIN:VEVENT
UID:18103@fakce.org
DTSTART;TZID=America/Los_Angeles:20260205T180000
DTEND;TZID=America/Los_Angeles:20260205T210000
DTSTAMP:20251031T041417Z
URL:https://fakce.org/events/en-linea-panel-de-adultos-adoptados-2026-02-0
 5/
SUMMARY:En Línea | Panel de Adultos Adoptados
DESCRIPTION:Descripción: Un grupo de adultos que fueron adoptados de niño
 s compartirán sus percepciones acerca de cuestiones de identidad\, niños
  adoptados creciendo\, búsquedas y reuniones con los padres biológicos\,
  etc. Preguntas son bienvenidas.\n***Por Favor Tome Nota: Esta clase se ll
 evará a cabo en la plataforma Zoom. Se requiere acceso a internet y a una
  computadora\, laptop\, tableta o teléfono inteligente para participar.\n
 Pedimos amablemente a los participantes que eviten el uso de fondos virtua
 les que puedan distraer. Para mayor privacidad\, recomendamos utilizar la 
 función de desenfoque.\nNo se permite tomar esta clase desde un vehículo
 .\nEl enlace de Zoom para asistir a esta clase será enviado por correo el
 ectrónico.\nPor favor\, siga el enlace a continuación para ver un breve 
 tutorial sobre cómo registrarse para obtener una cuenta gratuita de Zoom.
 \nZoom User Guide
ATTACH;FMTTYPE=image/jpeg:https://fakce.org/wp-content/uploads/2016/08/Cha
 iKids.jpg
CATEGORIES:Adoption Classes,Classes,Online Classes
LOCATION:Zoom\, 0000 Zoom \, San Diego\, United States
X-APPLE-STRUCTURED-LOCATION;VALUE=URI;X-ADDRESS=0000 Zoom \, San Diego\, Un
 ited States;X-APPLE-RADIUS=100;X-TITLE=Zoom:geo:0,0
END:VEVENT
BEGIN:VTIMEZONE
TZID:America/Los_Angeles
X-LIC-LOCATION:America/Los_Angeles
BEGIN:STANDARD
DTSTART:20251102T010000
TZOFFSETFROM:-0700
TZOFFSETTO:-0800
TZNAME:PST
END:STANDARD
END:VTIMEZONE
END:VCALENDAR