BEGIN:VCALENDAR
VERSION:2.0
PRODID:-//wp-events-plugin.com//7.2.3.1//EN
TZID:America/Los_Angeles
X-WR-TIMEZONE:America/Los_Angeles
BEGIN:VEVENT
UID:17948@fakce.org
DTSTART;TZID=America/Los_Angeles:20251009T180000
DTEND;TZID=America/Los_Angeles:20251009T200000
DTSTAMP:20250819T103903Z
URL:https://fakce.org/events/en-linea-padres-de-recursos-como-denunciantes
 -obligatorios-2025-10-09/
SUMMARY:En Línea | Padres de Recursos Como Denunciantes Obligatorios
DESCRIPTION:Instructora: Martha Velazco\, Gerente del Programa de Servicios
  de Protección del CFWB\n\nDescripción: La Ley Federal de Prevención y 
 Tratamiento del Abuso Infantil (CAPTA) requiere que cada estado tenga disp
 osiciones o procedimientos para exigir a ciertas personas que informen cas
 os conocidos o sospechosos de abuso y negligencia infantil. Este taller di
 scutirá las leyes que designan a los grupos de profesionales que están o
 bligados a denunciar casos de sospecha de abuso y negligencia infantil y d
 enuncias por parte de otras personas\, las responsabilidades y estándares
  de las instituciones en la elaboración de denuncias\, y la conﬁdencial
 idad de identidad.\n***Por Favor Tome Nota: Esta clase se llevará a cabo 
 en la plataforma Zoom. Se requiere acceso a internet y a una computadora\,
  laptop\, tableta o teléfono inteligente para participar.\nPedimos amable
 mente a los participantes que eviten el uso de fondos virtuales que puedan
  distraer. Para mayor privacidad\, recomendamos utilizar la función de de
 senfoque.\nNo se permite tomar esta clase desde un vehículo.\nEl enlace d
 e Zoom para asistir a esta clase será enviado por correo electrónico.\nP
 or favor\, siga el enlace a continuación para ver un breve tutorial sobre
  cómo registrarse para obtener una cuenta gratuita de Zoom.\nGuia de Zoom
  para Usuarios
ATTACH;FMTTYPE=image/jpeg:https://fakce.org/wp-content/uploads/2016/08/Kri
 stinLittlePhotography_Web_1500-009.jpg
CATEGORIES:Classes,Online Classes,Specialty Classes
LOCATION:Zoom\, 0000 Zoom \, San Diego\, United States
X-APPLE-STRUCTURED-LOCATION;VALUE=URI;X-ADDRESS=0000 Zoom \, San Diego\, Un
 ited States;X-APPLE-RADIUS=100;X-TITLE=Zoom:geo:0,0
END:VEVENT
BEGIN:VTIMEZONE
TZID:America/Los_Angeles
X-LIC-LOCATION:America/Los_Angeles
BEGIN:DAYLIGHT
DTSTART:20250309T030000
TZOFFSETFROM:-0800
TZOFFSETTO:-0700
TZNAME:PDT
END:DAYLIGHT
END:VTIMEZONE
END:VCALENDAR