BEGIN:VCALENDAR
VERSION:2.0
PRODID:-//wp-events-plugin.com//7.2.3.1//EN
TZID:America/Los_Angeles
X-WR-TIMEZONE:America/Los_Angeles
BEGIN:VEVENT
UID:18478@fakce.org
DTSTART;TZID=America/Los_Angeles:20260318T173000
DTEND;TZID=America/Los_Angeles:20260318T193000
DTSTAMP:20260129T132327Z
URL:https://fakce.org/events/en-linea-options-grupo-de-apoyo-en-espanol-co
 nsecuencias-a-largo-plazo-del-maltrato-de-menores-2026-03-18/
SUMMARY:En Linea| Options Grupo de Apoyo- En Español: Consecuencias a larg
 o plazo del maltrato de menores
DESCRIPTION:Reunión cada 3er miércoles del mes\n**No habra junta enero\,
  julio-septiembre\, &amp\; diciembre**\nLider de Grupo: Emma Martinez-Tidm
 ore\n\nEl Programa de Opciones para la Recuperación Perinatal es para ni
 ños de 0 a 60 meses que están expuestos a drogas y/o alcohol y/o VIH+. L
 os cuidadores de Opciones reciben 35 horas de capacitación especializada 
 y califican para 48 horas de respiro mensual.\n\nSi está interesado en co
 nvertirse en un cuidador de Options (Opciones) llame a Graciela Soto (619)
 813-7519 o comuníquese vía correo electrónico a Graciela.soto@sdcounty.
 ca.gov\n\nTema:  Además de las lesiones físicas inmediatas que los ni
 ños pueden sufrir por el maltrato\, las reacciones de un niño ante el ab
 uso o la negligencia pueden tener impactos de por vida e incluso intergene
 racionales. El maltrato infantil puede estar relacionado con consecuencias
  físicas\, psicológicas y conductuales\, así como con costes para la so
 ciedad en su conjunto. Los padres deben ser conscientes de estos problemas
  para ayudar a los niños a sanar y aumentar los factores de protección p
 ara ellos.\n***Por Favor Tome Nota: Esta clase se llevará a cabo en la p
 lataforma Zoom.\nSe requiere acceso a Internet y a una computadora\, lapto
 p\, tableta o teléfono inteligente para asistir.\nPara las reuniones de n
 uestro grupo de apoyo\, todos los participantes deben tener sus cámaras e
 ncendidas\, independientemente de si están buscando crédito o no. Este r
 equisito está diseñado para fomentar la plena participación y conexión
  entre los participantes\, fomentando una atmósfera de mayor apoyo dentro
  de nuestra comunidad. Tenga en cuenta que las personas que no puedan part
 icipar con sus cámaras encendidas no podrán unirse a las sesiones del gr
 upo de apoyo.\nPedimos amablemente que los participantes eviten usar fondo
 s virtuales que distraigan. Para mayor privacidad\, recomendamos usar la f
 unción de desenfoque.\nNo puede tomar esta clase desde un vehículo.\nEl 
 enlace de Zoom para asistir a esta clase se enviará por correo electróni
 co.\nSiga el enlace a continuación para un breve tutorial sobre cómo reg
 istrarse para obtener una cuenta gratuita de Zoom.\nGuia de Zoom para Usua
 rios
ATTACH;FMTTYPE=image/jpeg:https://fakce.org/wp-content/uploads/2016/03/bro
 thers-457237_1280.jpg
CATEGORIES:Classes,Online Classes,Support Groups,Workshops
LOCATION:Zoom\, 0000 Zoom \, San Diego\, United States
X-APPLE-STRUCTURED-LOCATION;VALUE=URI;X-ADDRESS=0000 Zoom \, San Diego\, Un
 ited States;X-APPLE-RADIUS=100;X-TITLE=Zoom:geo:0,0
END:VEVENT
BEGIN:VTIMEZONE
TZID:America/Los_Angeles
X-LIC-LOCATION:America/Los_Angeles
BEGIN:DAYLIGHT
DTSTART:20260308T030000
TZOFFSETFROM:-0800
TZOFFSETTO:-0700
TZNAME:PDT
END:DAYLIGHT
END:VTIMEZONE
END:VCALENDAR