BEGIN:VCALENDAR
VERSION:2.0
PRODID:-//wp-events-plugin.com//7.2.3.1//EN
TZID:America/Los_Angeles
X-WR-TIMEZONE:America/Los_Angeles
BEGIN:VEVENT
UID:17377@fakce.org
DTSTART;TZID=America/Los_Angeles:20250121T180000
DTEND;TZID=America/Los_Angeles:20250121T200000
DTSTAMP:20241218T172754Z
URL:https://fakce.org/events/en-linea-nutricion-y-alimentacion-saludable-l
 a-importancia-de-una-nutricion-equilibrada-para-el-crecimiento-de-los-nino
 s-2025-01-21/
SUMMARY:En Línea | Nutrición y Alimentación Saludable: La Importancia de
  Una Nutrición Equilibrada para el Crecimiento de los Niños
DESCRIPTION:Instructores: Representantes de Scripps Mercy Hospital’s Well
 ‐Being Center\nEsta clase atractiva e informativa está diseñada espec
 íficamente para padres de crianza\, brindándoles el conocimiento esencia
 l y las herramientas prácticas necesarias para apoyar a los niños bajo s
 u cuidado. Los participantes explorarán el papel crítico que desempeña 
 una nutrición equilibrada en la promoción de un desarrollo físico\, men
 tal y emocional saludable para niños de todas las edades.\nRegistro cerra
 rá el Martes 21 de Enero 2025 a las 7am \n***Por Favor Tome Nota: Esta 
 clase se llevará a cabo en la plataforma Zoom.\nSe requiere acceso a Inte
 rnet y a una computadora\, laptop\, tableta o teléfono inteligente para a
 sistir.\nPedimos amablemente que los participantes eviten usar fondos virt
 uales que distraigan. Para mayor privacidad\, recomendamos usar la funció
 n de desenfoque.\nNo puede tomar esta clase desde un vehículo.\nEl enlace
  de Zoom para asistir a esta clase se enviará por correo electrónico.\nS
 iga el enlace a continuación para un breve tutorial sobre cómo registrar
 se para obtener una cuenta gratuita de Zoom.\nGuia de Zoom para Usuarios
ATTACH;FMTTYPE=image/jpeg:https://fakce.org/wp-content/uploads/2023/02/pex
 els-alex-green-5692700-scaled.jpg
CATEGORIES:Classes,Online Classes,Specialty Classes
LOCATION:Zoom\, 0000 Zoom \, San Diego\, United States
X-APPLE-STRUCTURED-LOCATION;VALUE=URI;X-ADDRESS=0000 Zoom \, San Diego\, Un
 ited States;X-APPLE-RADIUS=100;X-TITLE=Zoom:geo:0,0
END:VEVENT
BEGIN:VTIMEZONE
TZID:America/Los_Angeles
X-LIC-LOCATION:America/Los_Angeles
BEGIN:STANDARD
DTSTART:20241103T010000
TZOFFSETFROM:-0700
TZOFFSETTO:-0800
TZNAME:PST
END:STANDARD
END:VTIMEZONE
END:VCALENDAR