BEGIN:VCALENDAR
VERSION:2.0
PRODID:-//wp-events-plugin.com//7.2.3.1//EN
TZID:America/Los_Angeles
X-WR-TIMEZONE:America/Los_Angeles
BEGIN:VEVENT
UID:17874@fakce.org
DTSTART;TZID=America/Los_Angeles:20250807T180000
DTEND;TZID=America/Los_Angeles:20250807T200000
DTSTAMP:20250616T223929Z
URL:https://fakce.org/events/en-linea-ntdc-apego-2025-08-07/
SUMMARY:En Linea | NTDC: Apego
DESCRIPTION:Parte del Entrenamiento Nacional de Capacitación y Desarrollo 
 para Padres Adoptivos y de Recursos (NTDC)\nCurrículo: El Entrenamiento N
 acional de Capacitación y Desarrollo para Padres Adoptivos y de Recursos 
 (NTDC) fue financiado a través de un acuerdo cooperativo de cinco años c
 on el Departamento de Salud y Servicios Humanos\, Administración para Ni
 ños y Familias\, Oficina de los Niños. Este acuerdo fue liderado por Spa
 ulding for Children\, en estrecha colaboración con otras agencias.\nNTDC 
 se basa en investigaciones y en los aportes de expertos\, familias con exp
 eriencia en la crianza o adopción de niños\, y jóvenes con vivencias en
  hogares de crianza y adopción. El equipo de NTDC está entusiasmado con 
 este plan de estudios y su potencial para impactar positivamente no solo l
 as vidas de los padres de crianza o adoptivos\, sino también las vidas de
  los niños en cuidado temporal o adoptados.\nCada capacitación ofrece un
  marco para construir una base sólida en la crianza de niños que han exp
 erimentado trauma\, separación y pérdida. Criar a niños con este tipo d
 e experiencias requiere una amplia gama de competencias y características
 \, las cuales pueden desarrollarse o fortalecerse. A través del aprendiza
 je compartido con otras personas que también son padres por medio de la c
 rianza o la adopción\, y con la guía de un equipo de padres y profesiona
 les con experiencia\, creemos que las familias pueden ofrecer el entorno c
 urativo que los niños necesitan.\nInstructores: Gisella Gomez\, MSW &amp\
 ; Israel Lefebre\, Trabajador de Servicios de Protección – CFWB\nDescri
 pción: Este taller está diseñado para ayudar a los participantes a comp
 render el impacto de la separación y la pérdida ambigua\, así como las 
 diferentes formas en que los niños experimentan el duelo. Se explora el d
 uelo a lo largo de la vida y la importancia de brindar oportunidades para 
 procesarlo. También se identificarán estrategias para ayudar a los niño
 s a enfrentar el duelo y la pérdida.\nLos participantes comprenderán la 
 pérdida y los vínculos fracturados con miembros de la familia biológica
  y colocaciones anteriores\; reconocerán la importancia de establecer y m
 antener relaciones esenciales con y para los niños\; entenderán el impac
 to de los cambios frecuentes de hogar y la importancia de manejar adecuada
 mente las transiciones\; y conocerán el duelo\, la pérdida y la separaci
 ón que experimentan todos los miembros de la red de cuidado temporal y ad
 opción.\n¿Te interesa la serie NTDC?¡Tenemos más sesiones disponibles!
  Haz clic a continuación para inscribirte en las sesiones que mejor se aj
 usten a tus intereses:\n\n\n 	\n8/14 | Separación\, Dolor y Pérdida\n\n\
 n 	\n8/21 | Comportamientos Relacionados con el Trauma\n\n\n 	\n8/28 | Cri
 anza Informada sobre el Trauma y Comunicación Eficaz\n\n\n***Por Favor To
 me Nota: Esta clase se llevará a cabo en la plataforma Zoom.\nSe requiere
  acceso a Internet y a una computadora\, laptop\, tableta o teléfono inte
 ligente para asistir.\nPedimos amablemente que los participantes eviten us
 ar fondos virtuales que distraigan. Para mayor privacidad\, recomendamos u
 sar la función de desenfoque.\nNo puede tomar esta clase desde un vehícu
 lo.\nEl enlace de Zoom para asistir a esta clase se enviará por correo el
 ectrónico.\nSiga el enlace a continuación para un breve tutorial sobre c
 ómo registrarse para obtener una cuenta gratuita de Zoom.\nGuia de Zoom p
 ara Usuarios
ATTACH;FMTTYPE=image/jpeg:https://fakce.org/wp-content/uploads/2021/02/han
 ds-trees-growing-seedlings_1150-44332.avif
CATEGORIES:Classes,Specialty Classes
END:VEVENT
BEGIN:VTIMEZONE
TZID:America/Los_Angeles
X-LIC-LOCATION:America/Los_Angeles
BEGIN:DAYLIGHT
DTSTART:20250309T030000
TZOFFSETFROM:-0800
TZOFFSETTO:-0700
TZNAME:PDT
END:DAYLIGHT
END:VTIMEZONE
END:VCALENDAR