BEGIN:VCALENDAR
VERSION:2.0
PRODID:-//wp-events-plugin.com//7.2.3.1//EN
TZID:America/Los_Angeles
X-WR-TIMEZONE:America/Los_Angeles
BEGIN:VEVENT
UID:18426@fakce.org
DTSTART;TZID=America/Los_Angeles:20260113T180000
DTEND;TZID=America/Los_Angeles:20260113T200000
DTSTAMP:20251213T034912Z
URL:https://fakce.org/events/en-linea-manejo-de-crisis-tecnicas-para-deses
 calar-situaciones-y-manejar-crisis-en-entornos-de-cuidado-temporal-2026-01
 -13/
SUMMARY:En Línea | Manejo de Crisis: Técnicas para Desescalar Situaciones
  y Manejar Crisis en Entornos de Cuidado Temporal
DESCRIPTION:Instructores: Representantes del Centro de Bienestar del Hospit
 al Scripps Mercy\n\nDescripción: Esta capacitación presentará a los pad
 res de crianza técnicas clave para la desescalada de crisis y estrategias
  de intervención en situaciones de alto estrés o emergencia. Los partici
 pantes aprenderán a mantener la seguridad\, la regulación emocional y la
  confianza durante interacciones difíciles.\n***Nota importante: Esta cla
 se se llevará a cabo a través de la plataforma Zoom.***\nSe requiere acc
 eso a internet y a una computadora\, laptop\, tableta o teléfono intelige
 nte para asistir.\nLe pedimos amablemente a los participantes que eviten e
 l uso de fondos virtuales que distraigan. Por privacidad\, recomendamos us
 ar la función de desenfoque.\nNo se permite tomar esta clase desde un veh
 ículo.\nEl enlace de Zoom para asistir a esta clase se enviará por corre
 o electrónico.\nPor favor\, siga el siguiente enlace para ver un breve tu
 torial sobre cómo crear una cuenta gratuita en Zoom.\nZoom User Guide
ATTACH;FMTTYPE=image/jpeg:https://fakce.org/wp-content/uploads/2016/08/n-T
 ANTRUM-628x314.jpg
CATEGORIES:Classes,Online Classes,Specialty Classes
LOCATION:Zoom\, 0000 Zoom \, San Diego\, United States
X-APPLE-STRUCTURED-LOCATION;VALUE=URI;X-ADDRESS=0000 Zoom \, San Diego\, Un
 ited States;X-APPLE-RADIUS=100;X-TITLE=Zoom:geo:0,0
END:VEVENT
BEGIN:VTIMEZONE
TZID:America/Los_Angeles
X-LIC-LOCATION:America/Los_Angeles
BEGIN:STANDARD
DTSTART:20251102T010000
TZOFFSETFROM:-0700
TZOFFSETTO:-0800
TZNAME:PST
END:STANDARD
END:VTIMEZONE
END:VCALENDAR