BEGIN:VCALENDAR
VERSION:2.0
PRODID:-//wp-events-plugin.com//7.2.3.1//EN
TZID:America/Los_Angeles
X-WR-TIMEZONE:America/Los_Angeles
BEGIN:VEVENT
UID:17285@fakce.org
DTSTART;TZID=America/Los_Angeles:20241204T180000
DTEND;TZID=America/Los_Angeles:20241204T210000
DTSTAMP:20241204T222357Z
URL:https://fakce.org/events/en-linea-los-siete-principios-que-impactan-un
 a-familia-creada-por-adopcion-2024-12-04/
SUMMARY:En Línea | Los Siete Principios Que Impactan Una Familia Creada Po
 r Adopción
DESCRIPTION:Instructora: Dee Dee Mascareñas\, LMFT\nDee Dee ha trabajado e
 n el campo de la salud mental con personas y familias durante más de 30 a
 ños. También tiene la experiencia vivida de lo que es crecer y vivir com
 o una persona adoptada desde nacimiento. Como experta profesional y expert
 a de su propia vida\, Dee Dee quiere compartir sus experiencias de su viaj
 e del "Proceso de Adopción para Toda la Vida" para poder ayudar a familia
 s lograr una crianza saludable y exitosa en beneficio del niño en su cuid
 ado. Dee Dee está totalmente comprometida a ayudar a las personas a crece
 r y cambiar para desarrollar una vida más plena\, saludable y efectiva.\n
 La riqueza de conocimientos de Dee Dee\, tanto de su experiencia profesion
 al como vivida\, puede ser invaluable para sus propias experiencias en el 
 cuidado de niños de crianza como Padres de Recursos.\nDescripción: Este 
 taller se enfoca en los temas que más impactan\, no solamente al niño ad
 optado\, pero a cada persona que es parte de una familia creada por adopci
 ón. Serán expuestos a información médico y psicológico que les ayudar
 án entender las necesidades profundas de una familia adoptiva. Aprenderá
 n herramientas que son efectivos y positivas y que ayudarán a las familia
 s a sanar y prosperar.\nRegistro cerrará el Miércoles 4 de Diciembre 202
 4 a las 7 am \n***Por Favor Tome Nota: Esta clase se facilitará en la pl
 ataforma en línea llamada Zoom. \nSe requiere acceso a Internet y acceso 
 a una computadora / computadora portátil / tableta / teléfono inteligent
 e para asistir.\nEl enlace para asistir a esta clase se proveerá después
  de que se registre.\nSiga el enlace a continuación para obtener un brev
 e tutorial sobre cómo registrarse para obtener una cuenta de\nGuia de Zoo
 m para Usuarios
ATTACH;FMTTYPE=image/jpeg:https://fakce.org/wp-content/uploads/2022/07/His
 panic-Family2.jpg
CATEGORIES:Classes,Online Classes,Specialty Classes
LOCATION:Zoom\, 0000 Zoom \, San Diego\, United States
X-APPLE-STRUCTURED-LOCATION;VALUE=URI;X-ADDRESS=0000 Zoom \, San Diego\, Un
 ited States;X-APPLE-RADIUS=100;X-TITLE=Zoom:geo:0,0
END:VEVENT
BEGIN:VTIMEZONE
TZID:America/Los_Angeles
X-LIC-LOCATION:America/Los_Angeles
BEGIN:STANDARD
DTSTART:20241103T010000
TZOFFSETFROM:-0700
TZOFFSETTO:-0800
TZNAME:PST
END:STANDARD
END:VTIMEZONE
END:VCALENDAR