BEGIN:VCALENDAR
VERSION:2.0
PRODID:-//wp-events-plugin.com//7.2.3.1//EN
TZID:America/Los_Angeles
X-WR-TIMEZONE:America/Los_Angeles
BEGIN:VEVENT
UID:16035@fakce.org
DTSTART;TZID=America/Los_Angeles:20231212T090000
DTEND;TZID=America/Los_Angeles:20231212T130000
DTSTAMP:20231025T163610Z
URL:https://fakce.org/events/en-linea-los-5-lenguajes-del-amor-de-los-nino
 s-2023-12-12/
SUMMARY:En Línea | Los 5 Lenguajes del Amor de Los Niños
DESCRIPTION:Cada niño tiene una forma “especial” de sentirse amado. Cu
 ando Padres de Recursos descubren el lenguaje del amor que prefiere su hij
 o\, puede construir una base sólida para que su hijo confié y prospere a
  medida que crece. Aprender los idiomas del amor te ayudará a disciplinar
  y corregir con más amor y eficacia.\nRegistro cerrará el Lunes 11 de Di
 ciembre a las 12 pm\n***Por Favor Tome Nota: Esta clase se facilitará en
  la plataforma en línea llamada Zoom. Se requiere acceso a Internet y acc
 eso a una computadora / computadora portátil / tableta / teléfono inteli
 gente para asistir.\nEl enlace para asistir a esta clase se proveerá desp
 ués de que se registre.\nSiga el enlace a continuación para obtener un 
 breve tutorial sobre cómo registrarse para obtener una cuenta de\nGuia de
  Zoom para Usuarios
ATTACH;FMTTYPE=image/jpeg:https://fakce.org/wp-content/uploads/2016/03/leg
 s-407196_1280.jpg
CATEGORIES:Classes,Online Classes,Specialty Classes
LOCATION:Zoom\, 0000 Zoom \, San Diego\, United States
X-APPLE-STRUCTURED-LOCATION;VALUE=URI;X-ADDRESS=0000 Zoom \, San Diego\, Un
 ited States;X-APPLE-RADIUS=100;X-TITLE=Zoom:geo:0,0
END:VEVENT
BEGIN:VTIMEZONE
TZID:America/Los_Angeles
X-LIC-LOCATION:America/Los_Angeles
BEGIN:STANDARD
DTSTART:20231105T010000
TZOFFSETFROM:-0700
TZOFFSETTO:-0800
TZNAME:PST
END:STANDARD
END:VTIMEZONE
END:VCALENDAR