BEGIN:VCALENDAR
VERSION:2.0
PRODID:-//wp-events-plugin.com//7.2.3.1//EN
TZID:America/Los_Angeles
X-WR-TIMEZONE:America/Los_Angeles
BEGIN:VEVENT
UID:14015@fakce.org
DTSTART;TZID=America/Los_Angeles:20220211T180000
DTEND;TZID=America/Los_Angeles:20220211T210000
DTSTAMP:20211214T180703Z
URL:https://fakce.org/events/en-linea-lo-que-todos-los-padres-de-recursos-
 necesitan-saber-2022-02-11/
SUMMARY:En Linea| Lo Que Todos los Padres de Recursos Necesitan Saber
DESCRIPTION:La meta de esta clase es de estresar la importancia de trabajar
  en equipo para mejor apoyar la crianza del niño. También se discutirá
  información sobre colocaciones\, transiciones\, visitas\, recursos comun
 itarios y mucho más.\nRegistro cerrara el jueves 11 de Febrero\, 2022 a l
 as 7am\n***Por Favor Tome Nota: Esta clase se facilitará en la plataform
 a en línea llamada Zoom. Se requiere acceso a Internet y acceso a una com
 putadora / computadora portátil / tableta / teléfono inteligente para as
 istir.\nEl enlace para assistir a esta clase se proveera despues de que se
  registre.\nSiga el enlace a continuación para obtener un breve tutorial 
 sobre cómo registrarse para obtener una cuenta de\nGuia de Zoom para Usua
 rios
ATTACH;FMTTYPE=image/jpeg:https://fakce.org/wp-content/uploads/2016/03/leg
 s-407196_1280.jpg
CATEGORIES:Classes,Online Classes,Specialty Classes
LOCATION:Zoom\, 0000 Zoom \, San Diego\, United States
X-APPLE-STRUCTURED-LOCATION;VALUE=URI;X-ADDRESS=0000 Zoom \, San Diego\, Un
 ited States;X-APPLE-RADIUS=100;X-TITLE=Zoom:geo:0,0
END:VEVENT
BEGIN:VTIMEZONE
TZID:America/Los_Angeles
X-LIC-LOCATION:America/Los_Angeles
BEGIN:STANDARD
DTSTART:20211107T010000
TZOFFSETFROM:-0700
TZOFFSETTO:-0800
TZNAME:PST
END:STANDARD
END:VTIMEZONE
END:VCALENDAR